Workbook

Sheet Восточная 1
A1: ООО "КП "Альтернатива"
A2: Отчет об исполнении управляющей организацией договора управления Восточная д. 1
A4: N пп | B4: Наименование параметра | C4: Единица измерения | D4: Значение
A5: 1. | B5: Дата заполнения/ внесения изменений | C5: - | D5: 12 марта 2019 года
A6: 2. | B6: Дата начала отчетного периода | C6: - | D6: 01 января 2018 года
A7: 3. | B7: Дата конца отчетного периода | C7: - | D7: 31 декабря 2018 года
A8: Общая информация о выполняемых работах (оказываемых услугах) по содержанию и текущему ремонту общего имущества
A9: 4. | B9: Переходящие остатки денежных средств (на начало периода 01.01.2018г.) | C9: руб. | D9: 151847.58
B10: - переплата потребителями | C10: руб. | D10: 0
B11: - задолженность потребителей | C11: руб. | D11: 151847.58
A12: 5. | B12: Начислено за услуги (работы) по содержанию и текущему ремонту, в том числе: | C12: руб. | D12: 509815.96
B13: - за содержание дома | C13: руб. | D13: =F32*D12/D28 -> 321144.39
B14: - за текущий ремонт | C14: руб. | D14: =D12*F52/D28 -> 132676.68
B15: - за услуги управления | C15: руб. | D15: =F31*D12/D28 -> 55994.888
A16: 6. | B16: Получено денежных средств, в том числе: | C16: руб. | D16: 472311.44
B17: - денежных средств от потребителей | C17: руб. | D17: 472311.44
B18: - целевых взносов от потребителей | C18: руб. | D18: 0
B19: - субсидий | C19: руб. | D19: 0
B20: - денежных средств от использования общего имущества | C20: руб. | D20: 0
B21: - прочие поступления | C21: руб. | D21: 0
A22: 7. | B22: Всего денежных средств с учетом остатков | C22: руб. | D22: 472311.44
A23: 8. | B23: Переходящие остатки денежных средств (на конец периода 31.12.2018г.) | C23: руб. | D23: =D9+D12-D16 -> 189352.1
B24: - переплата потребителями | C24: руб. | D24: 0
B25: - задолженность потребителей | C25: руб. | D25: 189352.1
A26: Выполненные работы (оказанные услуги) по содержанию общего имущества и текущему ремонту в отчетном периоде
A27: 9. | B27: Наименование работ (услуг) | C27: - | D27: Управление жилым домом
A28: 10. | B28: Годовая фактическая стоимость работ (услуг) | C28: руб. | D28: 595453.12
A29: Детальный перечень выполненных работ (оказанных услуг) - Управление жилым домом
A30: №пп | B30: Работа | C30: Измеритель | D30: Кол-во ед.из. | E30: Периодичность в год | F30: Стоимость, руб.
A31: I | B31: Расходы на управление | C31: 2,20 руб/м² | D31: 2477.3 | E31: 12 | F31: =2.2*[1]Работы!E3*[1]Работы!F3 -> 65400.72
A32: II | B32: Работы по содержанию общего имущества | F32: =SUM(F33:F51) -> 375089.14
A33: 1 | B33: Содержание аварийно-диспетчерской службы | C33: 2,79 руб/м² | D33: 2477.3 | E33: 12 | F33: =2.79*[1]Работы!E5*[1]Работы!F5 -> 82940.004
A34: 2 | B34: Промывка трубопроводов системы центрального отопления | C34: 10 м трубопровода | D34: 40 | E34: 1 | F34: =SUM([1]Работы!G6,[1]Работы!H6,[1]Работы!I6,[1]Работы!K6,[1]Работы!L6) -> 12839.69
A35: 3 | B35: Ликвидация воздушных пробок в стояке системы отопления | C35: 100 стояков | D35: 0.01 | E35: 4 | F35: =SUM([1]Работы!G7,[1]Работы!H7,[1]Работы!I7,[1]Работы!K7,[1]Работы!L7) -> 753.88154
A36: 4 | B36: Устранение засоров внутренних канализационных трубопроводов | C36: 100 м трубы | D36: 0.1 | E36: 2 | F36: =SUM([1]Работы!G8,[1]Работы!H8,[1]Работы!I8,[1]Работы!K8,[1]Работы!L8) -> 775.09098
A37: 5 | B37: Запуск отопления | C37: 1 здание | D37: 1 | E37: 1 | F37: =SUM([1]Работы!G9,[1]Работы!H9,[1]Работы!I9,[1]Работы!K9,[1]Работы!L9) -> 1346.217
A38: 6 | B38: Ревизия запорной арматуры | C38: 100 задвижек | D38: 0.06 | E38: 1 | F38: =SUM([1]Работы!G10,[1]Работы!H10,[1]Работы!I10,[1]Работы!K10,[1]Работы!L10) -> 8904.4481
A39: 7 | B39: Осмотр территории вокруг здания и фундамента | C39: 1000 кв.м. общей площади | D39: 2.5 | E39: 2 | F39: =SUM([1]Работы!G11,[1]Работы!H11,[1]Работы!I11,[1]Работы!K11,[1]Работы!L11) -> 656.2808
A40: 8 | B40: Осмотр кирпичных и железобетонных стен, фасадов | C40: 1000 кв.м. общей площади | D40: 2.5 | E40: 2 | F40: =SUM([1]Работы!G12,[1]Работы!H12,[1]Работы!I12,[1]Работы!K12,[1]Работы!L12) -> 5233.4187
A41: 9 | B41: Осмотр внутренней отделки стен | C41: 1000 кв.м. общей площади | D41: 2.5 | E41: 2 | F41: =SUM([1]Работы!G13,[1]Работы!H13,[1]Работы!I13,[1]Работы!K13,[1]Работы!L13) -> 7591.2295
...

Sheet Лист2

Sheet Лист3
