Workbook

Sheet Тимирязева 9
A1: ООО "КП "Альтернатива"
A2: Отчет об исполнении управляющей организацией договора управления Тимирязева д. 9
A4: N пп | B4: Наименование параметра | C4: Единица измерения | D4: Значение
A5: 1. | B5: Дата заполнения/ внесения изменений | C5: - | D5: 25 марта 2019 года
A6: 2. | B6: Дата начала отчетного периода | C6: - | D6: 01 января 2018 года
A7: 3. | B7: Дата конца отчетного периода | C7: - | D7: 31 декабря 2018 года
A8: Общая информация о выполняемых работах (оказываемых услугах) по содержанию и текущему ремонту общего имущества
A9: 4. | B9: Переходящие остатки денежных средств (на начало периода 01.01.2018г.) | C9: руб. | D9: 146605.31
B10: - переплата потребителями | C10: руб. | D10: 0
B11: - задолженность потребителей | C11: руб. | D11: 146605.31
A12: 5. | B12: Начислено за услуги (работы) по содержанию и текущему ремонту, в том числе: | C12: руб. | D12: 301993.97
B13: - за содержание дома | C13: руб. | D13: =F32*D12/D28 -> 248141.75
B14: - за текущий ремонт | C14: руб. | D14: =F53*D12/D28 -> 12541.544
B15: - за услуги управления | C15: руб. | D15: =F31*D12/D28 -> 41310.676
A16: 6. | B16: Получено денежных средств, в том числе: | C16: руб. | D16: 282534.37
B17: - денежных средств от потребителей | C17: руб. | D17: 282534.37
B18: - целевых взносов от потребителей | C18: руб. | D18: 0
B19: - субсидий | C19: руб. | D19: 0
B20: - денежных средств от использования общего имущества | C20: руб. | D20: 0
B21: - прочие поступления | C21: руб. | D21: 0
A22: 7. | B22: Всего денежных средств с учетом остатков | C22: руб. | D22: 282534.37
A23: 8. | B23: Переходящие остатки денежных средств (на конец периода 31.12.2018г.) | C23: руб. | D23: =D9+D12-D16 -> 166064.91
B24: - переплата потребителями | C24: руб. | D24: 0
B25: - задолженность потребителей | C25: руб. | D25: 166064.91
A26: Выполненные работы (оказанные услуги) по содержанию общего имущества и текущему ремонту в отчетном периоде
A27: 9. | B27: Наименование работ (услуг) | C27: - | D27: Управление жилым домом
A28: 10. | B28: Годовая фактическая стоимость работ (услуг) | C28: руб. | D28: 288118.15
A29: Детальный перечень выполненных работ (оказанных услуг) - Управление жилым домом
A30: №пп | B30: Работа | C30: Измеритель | D30: Кол-во ед.из. | E30: Периодичность | F30: Стоимость, руб.
A31: I. | B31: Расходы на управление | C31: 2,20 руб/м² | D31: 1492.9 | E31: 12 | F31: =PRODUCT([1]Работы!E3:F3,2.2) -> 39412.56
A32: II. | B32: Работы по содержанию общего имущества | F32: =SUM(F33:F52) -> 236740.3
A33: 1 | B33: Содержание аварийно-диспетчерской службы | C33: 2,79 руб/м² | D33: 1492.9 | E33: 12 | F33: =PRODUCT([1]Работы!E5:F5,2.79) -> 49982.292
A34: 2 | B34: Промывка трубопроводов системы центрального отопления | C34: 10 м трубопровода | D34: 20 | E34: 1 | F34: =SUM([1]Работы!G6,[1]Работы!H6,[1]Работы!I6,[1]Работы!K6,[1]Работы!L6) -> 6419.8451
A35: 3 | B35: Ревизия запорной арматуры | C35: 100 задвижек | D35: 0.04 | E35: 1 | F35: =SUM([1]Работы!G7,[1]Работы!H7,[1]Работы!I7,[1]Работы!K7,[1]Работы!L7) -> 5936.2988
A36: 4 | B36: Запуск отопления | C36: 1 здание | D36: 1 | E36: 1 | F36: =SUM([1]Работы!G8,[1]Работы!H8,[1]Работы!I8,[1]Работы!K8,[1]Работы!L8) -> 1346.217
A37: 5 | B37: Ликвидация воздушных пробок в стояке системы отопления | C37: 100 стояков | D37: 0.01 | E37: 2 | F37: =SUM([1]Работы!G9,[1]Работы!H9,[1]Работы!I9,[1]Работы!K9,[1]Работы!L9) -> 376.94077
A38: 6 | B38: Устранение засоров внутренних канализационных трубопроводов | C38: 100 м трубы | D38: 0.1 | E38: 2 | F38: =SUM([1]Работы!G10,[1]Работы!H10,[1]Работы!I10,[1]Работы!K10,[1]Работы!L10) -> 775.09098
A39: 7 | B39: Осмотр территории вокруг здания и фундамента | C39: 1000 кв.м. общей площади | D39: 1.5 | E39: 2 | F39: =SUM([1]Работы!G11,[1]Работы!H11,[1]Работы!I11,[1]Работы!K11,[1]Работы!L11) -> 393.76848
A40: 8 | B40: Осмотр кирпичных и железобетонных стен, фасадов | C40: 1000 кв.м. общей площади | D40: 1.5 | E40: 2 | F40: =SUM([1]Работы!G12,[1]Работы!H12,[1]Работы!I12,[1]Работы!K12,[1]Работы!L12) -> 3140.0512
A41: 9 | B41: Осмотр внутренней отделки стен | C41: 1000 кв.м. общей площади | D41: 1.5 | E41: 2 | F41: =SUM([1]Работы!G13,[1]Работы!H13,[1]Работы!I13,[1]Работы!K13,[1]Работы!L13) -> 4554.7377
A42: 10 | B42: Осмотр всех элементов кровель, водостоков | C42: 1000 кв.м. кровли | D42: 0.5 | E42: 2 | F42: =SUM([1]Работы!G14,[1]Работы!H14,[1]Работы!I14,[1]Работы!K14,[1]Работы!L14) -> 2838.0672
A43: 11 | B43: Прочистка канализационного лежака | C43: 100 м канализа-ционного лежака | D43: 0.1 | E43: 1 | F43: =SUM([1]Работы!G15,[1]Работы!H15,[1]Работы!I15,[1]Работы!K15,[1]Работы!L15) -> 1254.3917
A44: 12 | B44: Проверка исправности канализационных вытяжек | C44: 1000 м2 площади помещений | D44: 1.5 | E44: 2 | F44: =SUM([1]Работы!G16,[1]Работы!H16,[1]Работы!I16,[1]Работы!K16,[1]Работы!L16) -> 4240.5837
A45: 13 | B45: Проведение технических осмотров и устранение незначительных неисправностей в системе вентиляции | C45: 1000 м2 площади помещений | D45: 1.5 | E45: 3 | F45: =SUM([1]Работы!G17,[1]Работы!H17,[1]Работы!I17,[1]Работы!K17,[1]Работы!L17) -> 6360.8755
... A47: 15 | B47: Осмотр устройства системы центрального отопления в чердачных и подвальных помещениях | C47: 1000 м2 осматри-ваемых помещений | D47: 1 | E47: 2 | F47: =SUM([1]Работы!G19,[1]Работы!H19,[1]Работы!I19,[1]Работы!K19,[1]Работы!L19) -> 3036.4918
A48: 16 | B48: Уборка придомовой территории | C48: 3,15 руб/м² | D48: 1492.9 | E48: 247 | F48: =3.15*[1]Работы!E20*12 -> 56431.62
A49: 17 | B49: Уборка подъездов | C49: 1,64 руб/м² | D49: 1492.9 | E49: 48 | F49: =PRODUCT([1]Работы!E21,1.64,12) -> 29380.272
A50: 18 | B50: Вывоз твердых бытовых отходов и крупногабаритного мусора | C50: 1,95 руб/м² | D50: 1492.9 | E50: 365 | F50: =1.95*[1]Работы!E22/30*[1]Работы!F22 -> 35419.053
A51: 19 | B51: Обслуживание внутридомового газового оборудования | D51: 1492.9 | F51: 13292
A52: 20 | B52: Общедомовые нужды (электроэнергия, ГВ, ХВ) | F52: 10946.81
A53: III. | B53: Работы по текущему ремонту общего имущества | F53: =F54+F55+F56+F57 -> 11965.293
A54: 1 | B54: Устранение неисправности электроснабжения | C54: 1000 пог.м. | D54: 0.002 | E54: 4 | F54: =SUM([1]Работы!G26,[1]Работы!H26,[1]Работы!I26,[1]Работы!K26,[1]Работы!L26) -> 767.73816
A55: 2 | B55: Устранение неисправности трубопровода СО,ГВС,ХВС | C55: 100 м трубопроводов | D55: 0.01 | E55: 16 | F55: =SUM([1]Работы!G27,[1]Работы!H27,[1]Работы!I27,[1]Работы!K27,[1]Работы!L27) -> 7757.6142
A56: 3 | B56: Ремонт двери | C56: 100 коробок | D56: 0.01 | E56: 1 | F56: =SUM([1]Работы!G28,[1]Работы!H28,[1]Работы!I28,[1]Работы!K28,[1]Работы!L28) -> 1874.1412
A57: 4 | B57: Ремонт кровли | C57: 100 м2 | D57: 0.024 | E57: 1 | F57: =SUM([1]Работы!G29,[1]Работы!H29,[1]Работы!I29,[1]Работы!K29,[1]Работы!L29) -> 1565.7995
A58: ИТОГО: | F58: =SUM(F53,F31,F32) -> 288118.15
A59: Информация о ведении претензионно-исковой работы в отношении потребителей-должников
A60: 1. | B60: Направлено претензий потребителям-должникам | C60: ед. | D60: 85
A61: 2. | B61: Направлено исковых заявлений | C61: ед. | D61: 2
A62: 3. | B62: Получено денежных средств по результатам претензионно-исковой работы | C62: руб. | D62: 46010.33
D64: ООО "КП "Альтернатива"

Sheet Лист2

Sheet Лист3
