Workbook

Sheet Тимирязева 3
A1: ООО "КП "Альтернатива"
A2: Отчет об исполнении управляющей организацией договора управления Тимирязева д. 3
A4: N пп | B4: Наименование параметра | C4: Единица измерения | D4: Значение
A5: 1. | B5: Дата заполнения/ внесения изменений | C5: - | D5: 18 марта 2019 года
A6: 2. | B6: Дата начала отчетного периода | C6: - | D6: 01 января 2018 года
A7: 3. | B7: Дата конца отчетного периода | C7: - | D7: 31 декабря 2018 года
A8: Общая информация о выполняемых работах (оказываемых услугах) по содержанию и текущему ремонту общего имущества
A9: 4. | B9: Переходящие остатки денежных средств (на начало периода 01.01.2018г.) | C9: руб. | D9: 242047.56
B10: - переплата потребителями | C10: руб. | D10: 0
B11: - задолженность потребителей | C11: руб. | D11: 242047.56
A12: 5. | B12: Начислено за услуги (работы) по содержанию и текущему ремонту, в том числе: | C12: руб. | D12: 647784.37
B13: - за содержание дома | C13: руб. | D13: =D12*F32/D28 -> 515590.85
B14: - за текущий ремонт | C14: руб. | D14: =F53*D12/D28 -> 40889.259
B15: - за услуги управления | C15: руб. | D15: =D12*F31/D28 -> 91304.26
A16: 6. | B16: Получено денежных средств, в том числе: | C16: руб. | D16: 593373.91
B17: - денежных средств от потребителей | C17: руб. | D17: 593373.91
B18: - целевых взносов от потребителей | C18: руб. | D18: 0
B19: - субсидий | C19: руб. | D19: 0
B20: - денежных средств от использования общего имущества | C20: руб. | D20: 0
B21: - прочие поступления | C21: руб. | D21: 0
A22: 7. | B22: Всего денежных средств с учетом остатков | C22: руб. | D22: 593373.91
A23: 8. | B23: Переходящие остатки денежных средств (на конец периода 31.12.2018г.) | C23: руб. | D23: =D9+D12-D16 -> 296458.02
B24: - переплата потребителями | C24: руб. | D24: 0
B25: - задолженность потребителей | C25: руб. | D25: 296458.02
A26: Выполненные работы (оказанные услуги) по содержанию общего имущества и текущему ремонту в отчетном периоде
A27: 9. | B27: Наименование работ (услуг) | C27: - | D27: Управление жилым домом
A28: 10. | B28: Годовая фактическая стоимость работ (услуг) | C28: руб. | D28: 601802.63
A29: Детальный перечень выполненных работ (оказанных услуг) - Управление жилым домом
A30: №пп | B30: Работа | C30: Измеритель | D30: Кол-во ед.из. | E30: Периодичность | F30: Стоимость, руб.
A31: I. | B31: Расходы на управление | C31: 2,20 руб/м² | D31: 3213 | E31: 12 | F31: =PRODUCT([1]Работы!E3,[1]Работы!F3,2.2) -> 84823.2
A32: II. | B32: Работы по содержанию общего имущества | F32: =SUM(F33:F52) -> 478992.61
A33: 1 | B33: Содержание аварийно-диспетчерской службы | C33: 2,79 руб/м² | D33: 3213 | E33: 12 | F33: =PRODUCT([1]Работы!E5:F5,2.79) -> 107571.24
A34: 2 | B34: Промывка трубопроводов системы центрального отопления | C34: 10 м трубопровода | D34: 40 | E34: 1 | F34: =SUM([1]Работы!G6,[1]Работы!H6,[1]Работы!I6,[1]Работы!K6,[1]Работы!L6) -> 12839.69
A35: 3 | B35: Ревизия запорной арматуры | C35: 100 задвижек | D35: 0.12 | E35: 1 | F35: =SUM([1]Работы!G7,[1]Работы!H7,[1]Работы!I7,[1]Работы!K7,[1]Работы!L7) -> 17808.896
A36: 4 | B36: Запуск отопления | C36: 1 здание | D36: 1 | E36: 1 | F36: =SUM([1]Работы!G8,[1]Работы!H8,[1]Работы!I8,[1]Работы!K8,[1]Работы!L8) -> 1346.217
A37: 5 | B37: Ликвидация воздушных пробок в стояке системы отопления | C37: 100 стояков | D37: 0.01 | E37: 14 | F37: =SUM([1]Работы!G9,[1]Работы!H9,[1]Работы!I9,[1]Работы!K9,[1]Работы!L9) -> 2638.5854
A38: 6 | B38: Устранение засоров внутренних канализационных трубопроводов | C38: 100 м трубы | D38: 0.1 | E38: 15 | F38: =SUM([1]Работы!G10,[1]Работы!H10,[1]Работы!I10,[1]Работы!K10,[1]Работы!L10) -> 10161.466
A39: 7 | B39: Осмотр территории вокруг здания и фундамента | C39: 1000 кв.м. общей площади | D39: 3.2 | E39: 1 | F39: =SUM([1]Работы!G11,[1]Работы!H11,[1]Работы!I11,[1]Работы!K11,[1]Работы!L11) -> 420.01971
A40: 8 | B40: Осмотр кирпичных и железобетонных стен, фасадов | C40: 1000 кв.м. общей площади | D40: 3.2 | E40: 1 | F40: =SUM([1]Работы!G12,[1]Работы!H12,[1]Работы!I12,[1]Работы!K12,[1]Работы!L12) -> 3349.388
A41: 9 | B41: Осмотр внутренней отделки стен | C41: 1000 кв.м. общей площади | D41: 3.2 | E41: 1 | F41: =SUM([1]Работы!G13,[1]Работы!H13,[1]Работы!I13,[1]Работы!K13,[1]Работы!L13) -> 4858.3869
A42: 10 | B42: Осмотр всех элементов кровель, водостоков | C42: 1000 кв.м. кровли | D42: 1 | E42: 1 | F42: =SUM([1]Работы!G14,[1]Работы!H14,[1]Работы!I14,[1]Работы!K14,[1]Работы!L14) -> 2838.0672
A43: 11 | B43: Прочистка канализационного лежака | C43: 100 м канализа-ционного лежака | D43: 0.1 | E43: 6 | F43: =SUM([1]Работы!G15,[1]Работы!H15,[1]Работы!I15,[1]Работы!K15,[1]Работы!L15) -> 7526.3502
A44: 12 | B44: Проверка исправности канализационных вытяжек | C44: 1000 м2 площади помещений | D44: 3.2 | E44: 1 | F44: =SUM([1]Работы!G16,[1]Работы!H16,[1]Работы!I16,[1]Работы!K16,[1]Работы!L16) -> 4523.2892
A45: 13 | B45: Проведение технических осмотров и устранение незначительных неисправностей в системе вентиляции | C45: 1000 м2 площади помещений | D45: 3.2 | E45: 2 | F45: =SUM([1]Работы!G17,[1]Работы!H17,[1]Работы!I17,[1]Работы!K17,[1]Работы!L17) -> 9046.5785
... A47: 15 | B47: Осмотр устройства системы центрального отопления в чердачных и подвальных помещениях | C47: 1000 м2 осматри- ваемых помещений | D47: 1 | E47: 1 | F47: =SUM([1]Работы!G19,[1]Работы!H19,[1]Работы!I19,[1]Работы!K19,[1]Работы!L19) -> 1518.2459
A48: 16 | B48: Дератизация подвала с применением готовой приманки | C48: 1000 м2 обрабаты- ваемых помещений | D48: 1 | E48: 1 | F48: =SUM([1]Работы!G20:L20) -> 970.72024
A49: 17 | B49: Уборка придомовой территории | C49: 3,15 руб/м² | D49: 3213 | E49: 247 | F49: =PRODUCT([1]Работы!E21,3.15,12) -> 121451.4
A50: 18 | B50: Вывоз твердых бытовых отходов и крупногабаритного мусора | C50: 1,95 руб/м² | D50: 3213 | E50: 365 | F50: =PRODUCT(3213,1.95,12) -> 75184.2
A51: 19 | B51: Уборка подъездов | C51: 1,64 руб/м² | D51: 3213 | E51: 48 | F51: =PRODUCT([1]Работы!E23,1.64,12) -> 63231.84
A52: 20 | B52: Общедомовые нужды (электроэнергия, ГВ, ХВ) | F52: 30888.18
A53: III. | B53: Работы по текущему ремонту общего имущества | F53: =SUM(F54:F57) -> 37986.812
A54: 1 | B54: Устранение неисправности электроснабжения | C54: 1000 пог.м. | D54: 0.01 | E54: 9 | F54: =SUM([1]Работы!G26,[1]Работы!H26,[1]Работы!I26,[1]Работы!K26,[1]Работы!L26) -> 8637.0543
A55: 2 | B55: Устранение неисправности трубопровода СО,ГВС,ХВС | C55: 100 м трубопроводов | D55: 0.01 | E55: 22 | F55: =SUM([1]Работы!G27,[1]Работы!H27,[1]Работы!I27,[1]Работы!K27,[1]Работы!L27) -> 10666.719
A56: 3 | B56: Замена ламп | C56: 100 шт. | D56: 0.01 | E56: 7 | F56: =SUM([1]Работы!G28,[1]Работы!H28,[1]Работы!I28,[1]Работы!K28,[1]Работы!L28) -> 1006.4892
A57: 4 | B57: Восстановление (ремонт) цоколя и отмостки | C57: 100 м2 отмостки | D57: 0.46 | E57: 1 | F57: =SUM([1]Работы!G29,[1]Работы!H29,[1]Работы!I29,[1]Работы!K29,[1]Работы!L29) -> 17676.549
A58: ИТОГО: | F58: =SUM(F31,F32,F53) -> 601802.63
A59: Информация о ведении претензионно-исковой работы в отношении потребителей-должников
A60: 1. | B60: Направлено претензий потребителям-должникам | C60: ед. | D60: 106
A61: 2. | B61: Направлено исковых заявлений | C61: ед. | D61: 3
A62: 3. | B62: Получено денежных средств по результатам претензионно-исковой работы | C62: руб. | D62: 81765.75
D64: ООО "КП "Альтернатива"

Sheet Лист2

Sheet Лист3
