Workbook

Sheet Советская 14
A1: ООО "КП "Альтернатива"
A2: Отчет об исполнении управляющей организацией договора управления Советская д. 14
A4: N пп | B4: Наименование параметра | C4: Единица измерения | D4: Значение
A5: 1. | B5: Дата заполнения/ внесения изменений | C5: - | D5: 11 марта 2019 года
A6: 2. | B6: Дата начала отчетного периода | C6: - | D6: 01 января 2018 года
A7: 3. | B7: Дата конца отчетного периода | C7: - | D7: 31 декабря 2018 года
A8: Общая информация о выполняемых работах (оказываемых услугах) по содержанию и текущему ремонту общего имущества
A9: 4. | B9: Переходящие остатки денежных средств (на начало периода 01.01.2018г.) | C9: руб. | D9: 23735.5
B10: - переплата потребителями | C10: руб. | D10: 0
B11: - задолженность потребителей | C11: руб. | D11: 23735.5
A12: 5. | B12: Начислено за услуги (работы) по содержанию и текущему ремонту, в том числе: | C12: руб. | D12: 78663.32
B13: - за содержание дома | C13: руб. | D13: =D12*F32/D28 -> 64395.671
B14: - за текущий ремонт | C14: руб. | D14: =D12*F50/D28 -> 4898.6924
B15: - за услуги управления | C15: руб. | D15: =F31*D12/D28 -> 9368.9561
A16: 6. | B16: Получено денежных средств, в том числе: | C16: руб. | D16: 74931.09
B17: - денежных средств от потребителей | C17: руб. | D17: 74931.09
B18: - целевых взносов от потребителей | C18: руб. | D18: 0
B19: - субсидий | C19: руб. | D19: 0
B20: - денежных средств от использования общего имущества | C20: руб. | D20: 0
B21: - прочие поступления | C21: руб. | D21: 0
A22: 7. | B22: Всего денежных средств с учетом остатков | C22: руб. | D22: 74931.09
A23: 8. | B23: Переходящие остатки денежных средств (на конец периода 31.12.2018г.) | C23: руб. | D23: =D9+D12-D16 -> 27467.73
B24: - переплата потребителями | C24: руб. | D24: 0
B25: - задолженность потребителей | C25: руб. | D25: 27467.73
A26: Выполненные работы (оказанные услуги) по содержанию общего имущества и текущему ремонту в отчетном периоде
A27: 9. | B27: Наименование работ (услуг) | C27: - | D27: Управление жилым домом
A28: 10. | B28: Годовая фактическая стоимость работ (услуг) | C28: руб. | D28: 85515.969
A29: Детальный перечень выполненных работ (оказанных услуг) - Управление жилым домом
A30: №пп | B30: Работа | C30: Измеритель | D30: Кол-во ед.из. | E30: Периодичность | F30: Стоимость, руб.
A31: I. | B31: Расходы на управление | C31: 2,20 руб/м² | D31: 385.8 | E31: 12 | F31: =PRODUCT([1]Работы!E3:F3,2.2) -> 10185.12
A32: II. | B32: Работы по содержанию общего имущества | F32: =SUM(F33:F49) -> 70005.413
A33: 1 | B33: Содержание аварийно-диспетчерской службы | C33: 2,79 руб/м² | D33: 385.8 | E33: 12 | F33: =PRODUCT([1]Работы!E5:F5,2.79) -> 12916.584
A34: 2 | B34: Промывка трубопроводов системы центрального отопления | C34: 10 м трубопровода | D34: 10 | E34: 1 | F34: =SUM([1]Работы!G6,[1]Работы!H6,[1]Работы!I6,[1]Работы!K6,[1]Работы!L6) -> 3209.9226
A35: 3 | B35: Ревизия запорной арматуры | C35: 100 задвижек | D35: 0.04 | E35: 1 | F35: =SUM([1]Работы!G7,[1]Работы!H7,[1]Работы!I7,[1]Работы!K7,[1]Работы!L7) -> 5936.2988
A36: 4 | B36: Запуск отопления | C36: 1 здание | D36: 1 | E36: 1 | F36: =SUM([1]Работы!G8,[1]Работы!H8,[1]Работы!I8,[1]Работы!K8,[1]Работы!L8) -> 1346.217
A37: 5 | B37: Осмотр территории вокруг здания и фундамента | C37: 1000 кв.м. общей площади | D37: 0.4 | E37: 2 | F37: =SUM([1]Работы!G9,[1]Работы!H9,[1]Работы!I9,[1]Работы!K9,[1]Работы!L9) -> 105.00493
A38: 6 | B38: Осмотр кирпичных и железобетонных стен, фасадов | C38: 1000 кв.м. общей площади | D38: 0.4 | E38: 2 | F38: =SUM([1]Работы!G10,[1]Работы!H10,[1]Работы!I10,[1]Работы!K10,[1]Работы!L10) -> 837.34699
A39: 7 | B39: Осмотр внутренней отделки стен | C39: 1000 кв.м. общей площади | D39: 0.4 | E39: 2 | F39: =SUM([1]Работы!G11,[1]Работы!H11,[1]Работы!I11,[1]Работы!K11,[1]Работы!L11) -> 1214.5967
A40: 8 | B40: Осмотр всех элементов кровель, водостоков | C40: 1000 кв.м. кровли | D40: 0.2 | E40: 2 | F40: =SUM([1]Работы!G12,[1]Работы!H12,[1]Работы!I12,[1]Работы!K12,[1]Работы!L12) -> 1135.2269
A41: 9 | B41: Проверка исправности канализационных вытяжек | C41: 1000 м2 площади помещений | D41: 0.4 | E41: 2 | F41: =SUM([1]Работы!G13,[1]Работы!H13,[1]Работы!I13,[1]Работы!K13,[1]Работы!L13) -> 1130.8223
A42: 10 | B42: Проведение технических осмотров и устранение незначительных неисправностей в системе вентиляции | C42: 1000 м2 площади помещений | D42: 0.4 | E42: 3 | F42: =SUM([1]Работы!G14,[1]Работы!H14,[1]Работы!I14,[1]Работы!K14,[1]Работы!L14) -> 1696.2335
A43: 11 | B43: Осмотр электросети, арматуры, электрооборудования на лестничных клетках | C43: 100 лестничных площадок | D43: 0.02 | E43: 2 | F43: =SUM([1]Работы!G15,[1]Работы!H15,[1]Работы!I15,[1]Работы!K15,[1]Работы!L15) -> 136.64213
A44: 12 | B44: Осмотр устройства системы центрального отопления в чердачных и подвальных помещениях | C44: 1000 м2 осматри-ваемых помещений | D44: 0.2 | E44: 2 | F44: =SUM([1]Работы!G16,[1]Работы!H16,[1]Работы!I16,[1]Работы!K16,[1]Работы!L16) -> 607.29836
A45: 13 | B45: Уборка придомовой территории | C45: 3,15 руб/м² | D45: 385.8 | E45: 247 | F45: =3.15*[1]Работы!E17*12 -> 14583.24
A46: 14 | B46: Вывоз твердых бытовых отходов и крупногабаритного мусора | C46: 1,95 руб/м² | D46: 385.8 | E46: 365 | F46: =1.95*[1]Работы!E18/30*[1]Работы!F18 -> 9153.105
A47: 15 | B47: Уборка подъездов | C47: 1,64 руб/м² | D47: 385.8 | E47: 48 | F47: =PRODUCT([1]Работы!E19,1.64,12) -> 7592.544
A48: 16 | B48: Ослуживание внутридомового газового оборудования | D48: 385.8 | F48: 4381.8
A49: 17 | B49: Общедомовые нужды (электроэнергия, ХВ, ГВ) | F49: 4022.53
A50: III. | B50: Работы по текущему ремонту общего имущества | F50: =SUM(F51:F53) -> 5325.4354
A51: 1 | B51: Устранение неисправности системы отопления, ГВС, ХВС | C51: 100 м трубопроводов | D51: 0.01 | E51: 6 | F51: =SUM([1]Работы!G23,[1]Работы!H23,[1]Работы!I23,[1]Работы!K23,[1]Работы!L23) -> 2830.9533
A52: 2 | B52: Устранение неисправности электроснабжения | C52: 1000 пог.м. | D52: 0.01 | E52: 2 | F52: =SUM([1]Работы!G24,[1]Работы!H24,[1]Работы!I24,[1]Работы!K24,[1]Работы!L24) -> 1919.3454
A53: 3 | B53: Замена ламп | C53: 100 шт. | D53: 0.01 | E53: 4 | F53: =SUM([1]Работы!G25,[1]Работы!H25,[1]Работы!I25,[1]Работы!K25,[1]Работы!L25) -> 575.1367
A54: ИТОГО: | F54: =SUM(F31,F32,F50) -> 85515.969
A55: Информация о ведении претензионно-исковой работы в отношении потребителей-должников
A56: 1. | B56: Направлено претензий потребителям-должникам | C56: ед. | D56: 43
A57: 2. | B57: Направлено исковых заявлений | C57: ед. | D57: 0
A58: 3. | B58: Получено денежных средств по результатам претензионно-исковой работы | C58: руб. | D58: 22733.71
D60: ООО "КП "Альтернатива"

Sheet Лист2

Sheet Лист3
