Workbook

Sheet Советская 7
A1: ООО "КП "Альтернатива"
A2: Отчет об исполнении управляющей организацией договора управления Советская д. 7
A4: N пп | B4: Наименование параметра | C4: Единица измерения | D4: Значение
A5: 1. | B5: Дата заполнения/ внесения изменений | C5: - | D5: 15 марта 2019 года
A6: 2. | B6: Дата начала отчетного периода | C6: - | D6: 01 января 2018 года
A7: 3. | B7: Дата конца отчетного периода | C7: - | D7: 31 декабря 2018 года
A8: Общая информация о выполняемых работах (оказываемых услугах) по содержанию и текущему ремонту общего имущества
A9: 4. | B9: Переходящие остатки денежных средств (на начало периода 01.01.2018г.) | C9: руб. | D9: 47455.9
B10: - переплата потребителями | C10: руб. | D10: 0
B11: - задолженность потребителей | C11: руб. | D11: 47455.9
A12: 5. | B12: Начислено за услуги (работы) по содержанию и текущему ремонту, в том числе: | C12: руб. | D12: 143581.02
B13: - за содержание дома | C13: руб. | D13: =D12*F32/D28 -> 109796.38
B14: - за текущий ремонт | C14: руб. | D14: =F50*D12/D28 -> 17020.055
B15: - за услуги управления | C15: руб. | D15: =D12*F31/D28 -> 16764.584
A16: 6. | B16: Получено денежных средств, в том числе: | C16: руб. | D16: 129811.85
B17: - денежных средств от потребителей | C17: руб. | D17: 129811.85
B18: - целевых взносов от потребителей | C18: руб. | D18: 0
B19: - субсидий | C19: руб. | D19: 0
B20: - денежных средств от использования общего имущества | C20: руб. | D20: 0
B21: - прочие поступления | C21: руб. | D21: 0
A22: 7. | B22: Всего денежных средств с учетом остатков | C22: руб. | D22: 129811.85
A23: 8. | B23: Переходящие остатки денежных средств (на конец периода 31.12.2018г.) | C23: руб. | D23: =D9+D12-D16 -> 61225.07
B24: - переплата потребителями | C24: руб. | D24: 0
B25: - задолженность потребителей | C25: руб. | D25: 61225.07
A26: Выполненные работы (оказанные услуги) по содержанию общего имущества и текущему ремонту в отчетном периоде
A27: 9. | B27: Наименование работ (услуг) | C27: - | D27: Управление жилым домом
A28: 10. | B28: Годовая фактическая стоимость работ (услуг) | C28: руб. | D28: 148414.65
A29: Детальный перечень выполненных работ (оказанных услуг) - Управление жилым домом
A30: №пп | B30: Работа | C30: Измеритель | D30: Кол-во ед. изм. | E30: Периодичность в год | F30: Стоимость, руб.
A31: I. | B31: Расходы на управление | C31: 2,20 руб/м² | D31: 656.4 | E31: 12 | F31: =PRODUCT([1]Работы!E3:F3,2.2) -> 17328.96
A32: II. | B32: Работы по содержанию общего имущества | F32: =SUM(F33:F49) -> 113492.65
A33: 1 | B33: Содержание аварийно-диспетчерской службы | C33: 2,79 руб/м² | D33: 656.4 | E33: 12 | F33: =PRODUCT([1]Работы!E5:F5,2.79) -> 21976.272
A34: 2 | B34: Промывка трубопроводов системы центрального отопления | C34: 10 м трубопровода | D34: 20 | E34: 1 | F34: =SUM([1]Работы!G6,[1]Работы!H6,[1]Работы!I6,[1]Работы!K6,[1]Работы!L6) -> 6419.8451
A35: 3 | B35: Ревизия запорной арматуры | C35: 100 задвижек | D35: 0.04 | E35: 1 | F35: =SUM([1]Работы!G7,[1]Работы!H7,[1]Работы!I7,[1]Работы!K7,[1]Работы!L7) -> 5936.2988
A36: 4 | B36: Запуск отопления | C36: 1 здание | D36: 1 | E36: 1 | F36: =SUM([1]Работы!G8,[1]Работы!H8,[1]Работы!I8,[1]Работы!K8,[1]Работы!L8) -> 1346.217
A37: 5 | B37: Осмотр территории вокруг здания и фундамента | C37: 1000 кв.м. общей площади | D37: 0.6 | E37: 2 | F37: =SUM([1]Работы!G9,[1]Работы!H9,[1]Работы!I9,[1]Работы!K9,[1]Работы!L9) -> 157.50739
A38: 6 | B38: Осмотр кирпичных и железобетонных стен, фасадов | C38: 1000 кв.м. общей площади | D38: 0.6 | E38: 2 | F38: =SUM([1]Работы!G10,[1]Работы!H10,[1]Работы!I10,[1]Работы!K10,[1]Работы!L10) -> 1256.0205
A39: 7 | B39: Осмотр внутренней отделки стен | C39: 1000 кв.м. общей площади | D39: 0.6 | E39: 2 | F39: =SUM([1]Работы!G11,[1]Работы!H11,[1]Работы!I11,[1]Работы!K11,[1]Работы!L11) -> 1821.8951
A40: 8 | B40: Осмотр всех элементов кровель, водостоков | C40: 1000 кв.м. кровли | D40: 0.3 | E40: 2 | F40: =SUM([1]Работы!G12,[1]Работы!H12,[1]Работы!I12,[1]Работы!K12,[1]Работы!L12) -> 1702.8403
A41: 9 | B41: Проверка исправности канализационных вытяжек | C41: 1000 м2 площади помещений | D41: 0.6 | E41: 2 | F41: =SUM([1]Работы!G13,[1]Работы!H13,[1]Работы!I13,[1]Работы!K13,[1]Работы!L13) -> 1696.2335
A42: 10 | B42: Проведение технических осмотров и устранение незначительных неисправностей в системе вентиляции | C42: 1000 м2 площади помещений | D42: 0.6 | E42: 3 | F42: =SUM([1]Работы!G14,[1]Работы!H14,[1]Работы!I14,[1]Работы!K14,[1]Работы!L14) -> 2544.3502
A43: 11 | B43: Осмотр электросети, арматуры, электрооборудования на лестничных клетках | C43: 100 лестничных площадок | D43: 0.04 | E43: 2 | F43: =SUM([1]Работы!G15,[1]Работы!H15,[1]Работы!I15,[1]Работы!K15,[1]Работы!L15) -> 273.28426
A44: 12 | B44: Осмотр устройства системы центрального отопления в чердачных и подвальных помещениях | C44: 1000 м2 осматри-ваемых помещений | D44: 0.3 | E44: 2 | F44: =SUM([1]Работы!G16,[1]Работы!H16,[1]Работы!I16,[1]Работы!K16,[1]Работы!L16) -> 910.94754
A45: 13 | B45: Уборка придомовой территории | C45: 3,15 руб/м² | D45: 656.4 | E45: 247 | F45: =3.15*[1]Работы!E17*12 -> 24811.92
A46: 14 | B46: Вывоз твердых бытовых отходов и крупногабаритного мусора | C46: 1,95 руб/м² | D46: 656.4 | E46: 365 | F46: =1.95*[1]Работы!E18/30*[1]Работы!F18 -> 15573.09
A47: 15 | B47: Уборка подъездов | C47: 1,64 руб/м² | D47: 656.4 | E47: 48 | F47: =PRODUCT([1]Работы!E19,1.64,12) -> 12917.952
A48: 16 | B48: Ослуживание внутридомового газового оборудования | D48: 656.4 | F48: 6046
A49: 17 | B49: Общедомовые нужды (электроэнергия, ГВ, ХВ) | F49: 8101.98
A50: III. | B50: Работы по текущему ремонту общего имущества | F50: =F51+F52+F53 -> 17593.032
A51: 1 | B51: Устранение неисправности электроснабжения | C51: 1000 пог.м. | D51: 0.01 | E51: 9 | F51: =SUM([1]Работы!G23,[1]Работы!H23,[1]Работы!I23,[1]Работы!K23,[1]Работы!L23) -> 8637.0543
A52: 2 | B52: Устранение неисправности трубопровода СО,ГВС,ХВС | C52: 100 м трубопроводов | D52: 0.01 | E52: 7 | F52: =SUM([1]Работы!G24,[1]Работы!H24,[1]Работы!I24,[1]Работы!K24,[1]Работы!L24) -> 8056.4878
A53: 3 | B53: Ремонт дверного полотна | C53: 1 шт. | D53: 1 | E53: 1 | F53: =SUM([1]Работы!G25:L25) -> 899.49
A54: ИТОГО: | F54: =SUM(F31,F32,F50) -> 148414.65
A55: Информация о ведении претензионно-исковой работы в отношении потребителей-должников
A56: 1. | B56: Направлено претензий потребителям-должникам | C56: ед. | D56: 25
A57: 2. | B57: Направлено исковых заявлений | C57: ед. | D57: 1
A58: 3. | B58: Получено денежных средств по результатам претензионно-исковой работы | C58: руб. | D58: 17180.75
D60: ООО "КП "Альтернатива"

Sheet Лист2

Sheet Лист3
