Workbook

Sheet Пионерская 21
A1: ООО "КП "Альтернатива"
A2: Отчет об исполнении управляющей организацией договора управления Пионерская д. 21
A4: N пп | B4: Наименование параметра | C4: Единица измерения | D4: Значение
A5: 1. | B5: Дата заполнения/ внесения изменений | C5: - | D5: 06 марта 2019 года
A6: 2. | B6: Дата начала отчетного периода | C6: - | D6: 01 января 2018 года
A7: 3. | B7: Дата конца отчетного периода | C7: - | D7: 31 декабря 2018 года
A8: Общая информация о выполняемых работах (оказываемых услугах) по содержанию и текущему ремонту общего имущества
A9: 4. | B9: Переходящие остатки денежных средств (на начало периода 01.01.2018г.) | C9: руб. | D9: 46744.26
B10: - переплата потребителями | C10: руб. | D10: 0
B11: - задолженность потребителей | C11: руб. | D11: 46744.26
A12: 5. | B12: Начислено за услуги (работы) по содержанию и текущему ремонту, в том числе: | C12: руб. | D12: 67976.63
B13: - за содержание дома | C13: руб. | D13: =D12*F32/D28 -> 53886.195
B14: - за текущий ремонт | C14: руб. | D14: =D12*F48/D28 -> 4995.6774
B15: - за услуги управления | C15: руб. | D15: =F31*D12/D28 -> 9094.758
A16: 6. | B16: Получено денежных средств, в том числе: | C16: руб. | D16: 57259.76
B17: - денежных средств от потребителей | C17: руб. | D17: 57259.76
B18: - целевых взносов от потребителей | C18: руб. | D18: 0
B19: - субсидий | C19: руб. | D19: 0
B20: - денежных средств от использования общего имущества | C20: руб. | D20: 0
B21: - прочие поступления | C21: руб. | D21: 0
A22: 7. | B22: Всего денежных средств с учетом остатков | C22: руб. | D22: 57259.76
A23: 8. | B23: Переходящие остатки денежных средств (на конец периода 31.12.2018г.) | C23: руб. | D23: =D9+D12-D16 -> 57461.13
B24: - переплата потребителями | C24: руб. | D24: 0
B25: - задолженность потребителей | C25: руб. | D25: 57461.13
A26: Выполненные работы (оказанные услуги) по содержанию общего имущества и текущему ремонту в отчетном периоде
A27: 9. | B27: Наименование работ (услуг) | C27: - | D27: Управление жилым домом
A28: 10. | B28: Годовая фактическая стоимость работ (услуг) | C28: руб. | D28: 74527.988
A29: Детальный перечень выполненных работ (оказанных услуг) - Управление жилым домом
A30: №пп | B30: Работа | C30: Измеритель | D30: Кол-во ед.из. | E30: Периодичность | F30: Стоимость, руб.
A31: I. | B31: Расходы на управление | C31: 2,20 руб/м² | D31: 377.7 | E31: 12 | F31: =PRODUCT([1]Работы!E3:F3,2.2) -> 9971.28
A32: II. | B32: Работы по содержанию общего имущества | F32: =SUM(F33:F47) -> 59079.564
A33: 1 | B33: Содержание аварийно-диспетчерской службы | C33: 2,79 руб/м² | D33: 377.7 | E33: 12 | F33: =PRODUCT([1]Работы!E5:F5,2.79) -> 12645.396
A34: 2 | B34: Промывка трубопроводов системы центрального отопления | C34: 10 м трубопровода | D34: 10 | E34: 1 | F34: =SUM([1]Работы!G6,[1]Работы!H6,[1]Работы!I6,[1]Работы!K6,[1]Работы!L6) -> 3209.9226
A35: 3 | B35: Запуск отопления | C35: 1 здание | D35: 1 | E35: 1 | F35: =SUM([1]Работы!G7,[1]Работы!H7,[1]Работы!I7,[1]Работы!K7,[1]Работы!L7) -> 1346.217
A36: 4 | B36: Осмотр территории вокруг здания и фундамента | C36: 1000 кв.м. общей площади | D36: 0.3 | E36: 1 | F36: =SUM([1]Работы!G8,[1]Работы!H8,[1]Работы!I8,[1]Работы!K8,[1]Работы!L8) -> 39.376848
A37: 5 | B37: Осмотр кирпичных и железобетонных стен, фасадов | C37: 1000 кв.м. общей площади | D37: 0.3 | E37: 1 | F37: =SUM([1]Работы!G9,[1]Работы!H9,[1]Работы!I9,[1]Работы!K9,[1]Работы!L9) -> 314.00512
A38: 6 | B38: Осмотр внутренней отделки стен | C38: 1000 кв.м. общей площади | D38: 0.3 | E38: 1 | F38: =SUM([1]Работы!G10,[1]Работы!H10,[1]Работы!I10,[1]Работы!K10,[1]Работы!L10) -> 455.47377
A39: 7 | B39: Осмотр всех элементов кровель, водостоков | C39: 1000 кв.м. кровли | D39: 0.1 | E39: 1 | F39: =SUM([1]Работы!G11,[1]Работы!H11,[1]Работы!I11,[1]Работы!K11,[1]Работы!L11) -> 283.80672
A40: 8 | B40: Проверка исправности канализационных вытяжек | C40: 1000 м2 площади помещений | D40: 0.3 | E40: 1 | F40: =SUM([1]Работы!G12,[1]Работы!H12,[1]Работы!I12,[1]Работы!K12,[1]Работы!L12) -> 424.05837
A41: 9 | B41: Проведение технических осмотров и устранение незначительных неисправностей в системе вентиляции | C41: 1000 м2 площади помещений | D41: 0.3 | E41: 2 | F41: =SUM([1]Работы!G13,[1]Работы!H13,[1]Работы!I13,[1]Работы!K13,[1]Работы!L13) -> 848.11673
...

Sheet Лист2

Sheet Лист3
