Workbook

Sheet Пионерская 15
A1: ООО "КП "Альтернатива"
A2: Отчет об исполнении управляющей организацией договора управления Пионерская д. 15
A4: N пп | B4: Наименование параметра | C4: Единица измерения | D4: Значение
A5: 1. | B5: Дата заполнения/ внесения изменений | C5: - | D5: 19 марта 2019 года
A6: 2. | B6: Дата начала отчетного периода | C6: - | D6: 01 января 2018 года
A7: 3. | B7: Дата конца отчетного периода | C7: - | D7: 31 декабря 2018 года
A8: Общая информация о выполняемых работах (оказываемых услугах) по содержанию и текущему ремонту общего имущества
A9: 4. | B9: Переходящие остатки денежных средств (на начало периода 01.01.2018г.) | C9: руб. | D9: 149458.88
B10: - переплата потребителями | C10: руб. | D10: 0
B11: - задолженность потребителей | C11: руб. | D11: 149458.88
A12: 5. | B12: Начислено за услуги (работы) по содержанию и текущему ремонту, в том числе: | C12: руб. | D12: 744375.37
B13: - за содержание дома | C13: руб. | D13: =D12*F32/D28 -> 581048.67
B14: - за текущий ремонт | C14: руб. | D14: =D12*F51/D28 -> 54361.412
B15: - за услуги управления | C15: руб. | D15: =F31*D12/D28 -> 108965.29
A16: 6. | B16: Получено денежных средств, в том числе: | C16: руб. | D16: 713502.17
B17: - денежных средств от потребителей | C17: руб. | D17: 713502.17
B18: - целевых взносов от потребителей | C18: руб. | D18: 0
B19: - субсидий | C19: руб. | D19: 0
B20: - денежных средств от использования общего имущества | C20: руб. | D20: 0
B21: - прочие поступления | C21: руб. | D21: 0
A22: 7. | B22: Всего денежных средств с учетом остатков | C22: руб. | D22: 713502.17
A23: 8. | B23: Переходящие остатки денежных средств (на конец периода 31.12.2018г.) | C23: руб. | D23: =D9+D12-D16 -> 180332.08
B24: - переплата потребителями | C24: руб. | D24: 0
B25: - задолженность потребителей | C25: руб. | D25: 180332.08
A26: Выполненные работы (оказанные услуги) по содержанию общего имущества и текущему ремонту в отчетном периоде
A27: 9. | B27: Наименование работ (услуг) | C27: - | D27: Управление жилым домом
A28: 10. | B28: Годовая фактическая стоимость работ (услуг) | C28: руб. | D28: 665135.99
A29: Детальный перечень выполненных работ (оказанных услуг) - Управление жилым домом
A30: №пп | B30: Работа | C30: Измеритель | D30: Кол-во ед.из. | E30: Периодичность в год | F30: Стоимость, руб.
A31: I. | B31: Расходы на управление | C31: 2,20 руб/м² | D31: 3688.1 | E31: 12 | F31: =PRODUCT([1]Работы!E3:F3,2.2) -> 97365.84
A32: II. | B32: Работы по содержанию общего имущества | F32: =SUM(F33:F50) -> 519195.55
A33: 1 | B33: Содержание аварийно-диспетчерской службы | C33: 2,79 руб/м² | D33: 3688.1 | E33: 12 | F33: =PRODUCT([1]Работы!E5:F5,2.79) -> 123477.59
A34: 2 | B34: Промывка трубопроводов системы центрального отопления | C34: 10 м трубопровода | D34: 40 | E34: 1 | F34: =SUM([1]Работы!G6,[1]Работы!H6,[1]Работы!I6,[1]Работы!K6,[1]Работы!L6) -> 12839.69
A35: 3 | B35: Запуск отопления | C35: 1 здание | D35: 1 | E35: 1 | F35: =SUM([1]Работы!G7,[1]Работы!H7,[1]Работы!I7,[1]Работы!K7,[1]Работы!L7) -> 1346.217
A36: 4 | B36: Ликвидация воздушных пробок в стояке системы отопления | C36: 100 стояков | D36: 0.01 | E36: 11 | F36: =SUM([1]Работы!G8,[1]Работы!H8,[1]Работы!I8,[1]Работы!K8,[1]Работы!L8) -> 2073.1742
A37: 5 | B37: Устранение засоров внутренних канализационных трубопроводов | C37: 100 м трубы | D37: 0.1 | E37: 14 | F37: =SUM([1]Работы!G9,[1]Работы!H9,[1]Работы!I9,[1]Работы!K9,[1]Работы!L9) -> 9484.0346
A38: 6 | B38: Осмотр территории вокруг здания и фундамента | C38: 1000 кв.м. общей площади | D38: 3.6 | E38: 2 | F38: =SUM([1]Работы!G10,[1]Работы!H10,[1]Работы!I10,[1]Работы!K10,[1]Работы!L10) -> 945.04436
A39: 7 | B39: Осмотр кирпичных и железобетонных стен, фасадов | C39: 1000 кв.м. общей площади | D39: 3.6 | E39: 2 | F39: =SUM([1]Работы!G11,[1]Работы!H11,[1]Работы!I11,[1]Работы!K11,[1]Работы!L11) -> 7536.1229
A40: 8 | B40: Осмотр внутренней отделки стен | C40: 1000 кв.м. общей площади | D40: 3.6 | E40: 1 | F40: =SUM([1]Работы!G12,[1]Работы!H12,[1]Работы!I12,[1]Работы!K12,[1]Работы!L12) -> 5465.6852
A41: 9 | B41: Осмотр всех элементов кровель, водостоков | C41: 1000 кв.м. кровли | D41: 1 | E41: 2 | F41: =SUM([1]Работы!G13,[1]Работы!H13,[1]Работы!I13,[1]Работы!K13,[1]Работы!L13) -> 5676.1345
A42: 10 | B42: Прочистка канализационного лежака | C42: 100 м канализа-ционного лежака | D42: 0.1 | E42: 6 | F42: =SUM([1]Работы!G14,[1]Работы!H14,[1]Работы!I14,[1]Работы!K14,[1]Работы!L14) -> 7526.3502
A43: 11 | B43: Проверка исправности канализационных вытяжек | C43: 1000 м2 площади помещений | D43: 3.6 | E43: 1 | F43: =SUM([1]Работы!G15,[1]Работы!H15,[1]Работы!I15,[1]Работы!K15,[1]Работы!L15) -> 5088.7004
A44: 12 | B44: Проведение технических осмотров и устранение незначительных неисправностей в системе вентиляции | C44: 1000 м2 площади помещений | D44: 3.6 | E44: 1 | F44: =SUM([1]Работы!G16,[1]Работы!H16,[1]Работы!I16,[1]Работы!K16,[1]Работы!L16) -> 5088.7004
A45: 13 | B45: Осмотр электросети, арматуры, электрооборудования на лестничных клетках | C45: 100 лестничных площадок | D45: 0.3 | E45: 2 | F45: =SUM([1]Работы!G17,[1]Работы!H17,[1]Работы!I17,[1]Работы!K17,[1]Работы!L17) -> 2049.632
A46: 14 | B46: Осмотр устройства системы центрального отопления в чердачных и подвальных помещениях | C46: 1000 м2 осматри-ваемых помещений | D46: 1 | E46: 2 | F46: =SUM([1]Работы!G18,[1]Работы!H18,[1]Работы!I18,[1]Работы!K18,[1]Работы!L18) -> 3036.4918
A47: 15 | B47: Уборка придомовой территории | C47: 3,15 руб/м² | D47: 3688.1 | E47: 247 | F47: =3.15*[1]Работы!E19*12 -> 139410.18
A48: 16 | B48: Вывоз твердых бытовых отходов и крупногабаритного мусора | C48: 1,95 руб/м² | D48: 3688.1 | E48: 365 | F48: =PRODUCT([1]Работы!E20,1.95,12) -> 86301.54
A49: 17 | B49: Уборка подъездов | C49: 1,64 руб/м² | D49: 3688.1 | E49: 48 | F49: =PRODUCT([1]Работы!E21,1.64,12) -> 72581.808
A50: 18 | B50: Общедомовые нужды (электроэнергия, ГВ, ХВ) | F50: 29268.46
A51: III. | B51: Работы по текущему ремонту общего имущества | F51: =SUM(F52:F55) -> 48574.595
A52: 1 | B52: Устранение неисправности электроснабжения | C52: 1000 пог.м. | D52: 0.005 | E52: 18 | F52: =SUM([1]Работы!G24,[1]Работы!H24,[1]Работы!I24,[1]Работы!K24,[1]Работы!L24) -> 8637.0543
A53: 2 | B53: Устранение неисправности СО, ГВС, ХВС | C53: 100 м трубопроводов | D53: 0.01 | E53: 25 | F53: =SUM([1]Работы!G25,[1]Работы!H25,[1]Работы!I25,[1]Работы!K25,[1]Работы!L25) -> 12121.272
A54: 3 | B54: Замена ламп | C54: 100 шт. | D54: 0.01 | E54: 11 | F54: =SUM([1]Работы!G26,[1]Работы!H26,[1]Работы!I26,[1]Работы!K26,[1]Работы!L26) -> 1719.6095
A55: 4 | B55: Ремонт кровли | C55: 100 м2 | D55: 0.4 | E55: 1 | F55: =SUM([1]Работы!G27,[1]Работы!H27,[1]Работы!I27,[1]Работы!K27,[1]Работы!L27) -> 26096.659
A56: ИТОГО: | F56: =SUM(F51,F31,F32) -> 665135.99
A57: Информация о ведении претензионно-исковой работы в отношении потребителей-должников
A58: 1. | B58: Направлено претензий потребителям-должникам | C58: ед. | D58: 155
A59: 2. | B59: Направлено исковых заявлений | C59: ед. | D59: 2
A60: 3. | B60: Получено денежных средств по результатам претензионно-исковой работы | C60: руб. | D60: 120542.1
D62: ООО "КП "Альтернатива"

Sheet Лист2

Sheet Лист3
