Workbook

Sheet Мопра 25
A1: ООО "КП "Альтернатива"
A2: Отчет об исполнении управляющей организацией договора управления Мопра д. 25
A4: N пп | B4: Наименование параметра | C4: Единица измерения | D4: Значение
A5: 1. | B5: Дата заполнения/ внесения изменений | C5: - | D5: 15 марта 2019 года
A6: 2. | B6: Дата начала отчетного периода | C6: - | D6: 01 января 2018 года
A7: 3. | B7: Дата конца отчетного периода | C7: - | D7: 31 декабря 2018 года
A8: Общая информация о выполняемых работах (оказываемых услугах) по содержанию и текущему ремонту общего имущества
A9: 4. | B9: Переходящие остатки денежных средств (на начало периода 01.01.2018г.) | C9: руб. | D9: 59732.18
B10: - переплата потребителями | C10: руб. | D10: 0
B11: - задолженность потребителей | C11: руб. | D11: 59732.18
A12: 5. | B12: Начислено за услуги (работы) по содержанию и текущему ремонту, в том числе: | C12: руб. | D12: 121557.52
B13: - за содержание дома | C13: руб. | D13: =D12*F32/D28 -> 101540.45
B14: - за текущий ремонт | C14: руб. | D14: =F50*D12/D28 -> 3787.6565
B15: - за услуги управления | C15: руб. | D15: =D12*F31/D28 -> 16229.417
A16: 6. | B16: Получено денежных средств, в том числе: | C16: руб. | D16: 109912.17
B17: - денежных средств от потребителей | C17: руб. | D17: 109912.17
B18: - целевых взносов от потребителей | C18: руб. | D18: 0
B19: - субсидий | C19: руб. | D19: 0
B20: - денежных средств от использования общего имущества | C20: руб. | D20: 0
B21: - прочие поступления | C21: руб. | D21: 0
A22: 7. | B22: Всего денежных средств с учетом остатков | C22: руб. | D22: 109912.17
A23: 8. | B23: Переходящие остатки денежных средств (на конец периода 31.12.2018г.) | C23: руб. | D23: =D9+D12-D16 -> 71377.53
B24: - переплата потребителями | C24: руб. | D24: 0
B25: - задолженность потребителей | C25: руб. | D25: 71377.53
A26: Выполненные работы (оказанные услуги) по содержанию общего имущества и текущему ремонту в отчетном периоде
A27: 9. | B27: Наименование работ (услуг) | C27: - | D27: Управление жилым домом
A28: 10. | B28: Годовая фактическая стоимость работ (услуг) | C28: руб. | D28: 126747.93
A29: Детальный перечень выполненных работ (оказанных услуг) - Управление жилым домом
A30: №пп | B30: Работа | C30: Измеритель | D30: Кол-во ед.из. | E30: Периодичность в год | F30: Стоимость, руб.
A31: I. | B31: Расходы на управление | C31: 2,20 руб/м² | D31: 641 | E31: 12 | F31: =PRODUCT([1]Работы!E3:F3,2.2) -> 16922.4
A32: II. | B32: Работы по содержанию общего имущества | F32: =SUM(F33:F49) -> 105876.14
A33: 1 | B33: Содержание аварийно-диспетчерской службы | C33: 2,79 руб/м² | D33: 641 | E33: 12 | F33: =PRODUCT([1]Работы!E5:F5,2.79) -> 21460.68
A34: 2 | B34: Промывка трубопроводов системы центрального отопления | C34: 10 м трубопровода | D34: 10 | E34: 1 | F34: =SUM([1]Работы!G6,[1]Работы!H6,[1]Работы!I6,[1]Работы!K6,[1]Работы!L6) -> 3209.9226
A35: 3 | B35: Ревизия запорной арматуры | C35: 100 задвижек | D35: 0.02 | E35: 1 | F35: =SUM([1]Работы!G7,[1]Работы!H7,[1]Работы!I7,[1]Работы!K7,[1]Работы!L7) -> 2968.1494
A36: 4 | B36: Запуск отопления | C36: 1 здание | D36: 1 | E36: 1 | F36: =SUM([1]Работы!G8,[1]Работы!H8,[1]Работы!I8,[1]Работы!K8,[1]Работы!L8) -> 1346.217
A37: 5 | B37: Устранение засоров внутренних канализационных трубопроводов | C37: 100 м трубы | D37: 0.1 | E37: 2 | F37: =SUM([1]Работы!G9,[1]Работы!H9,[1]Работы!I9,[1]Работы!K9,[1]Работы!L9) -> 1354.8621
A38: 6 | B38: Осмотр территории вокруг здания и фундамента | C38: 1000 кв.м. общей площади | D38: 0.6 | E38: 2 | F38: =SUM([1]Работы!G10,[1]Работы!H10,[1]Работы!I10,[1]Работы!K10,[1]Работы!L10) -> 157.50739
A39: 7 | B39: Осмотр кирпичных и железобетонных стен, фасадов | C39: 1000 кв.м. общей площади | D39: 0.6 | E39: 2 | F39: =SUM([1]Работы!G11,[1]Работы!H11,[1]Работы!I11,[1]Работы!K11,[1]Работы!L11) -> 1256.0205
A40: 8 | B40: Осмотр внутренней отделки стен | C40: 1000 кв.м. общей площади | D40: 0.6 | E40: 2 | F40: =SUM([1]Работы!G12,[1]Работы!H12,[1]Работы!I12,[1]Работы!K12,[1]Работы!L12) -> 1821.8951
A41: 9 | B41: Осмотр всех элементов кровель, водостоков | C41: 1000 кв.м. кровли | D41: 0.2 | E41: 2 | F41: =SUM([1]Работы!G13,[1]Работы!H13,[1]Работы!I13,[1]Работы!K13,[1]Работы!L13) -> 1135.2269
A42: 10 | B42: Проверка исправности канализационных вытяжек | C42: 1000 м2 площади помещений | D42: 0.6 | E42: 2 | F42: =SUM([1]Работы!G14,[1]Работы!H14,[1]Работы!I14,[1]Работы!K14,[1]Работы!L14) -> 1696.2335
A43: 11 | B43: Проведение технических осмотров и устранение незначительных неисправностей в системе вентиляции | C43: 1000 м2 площади помещений | D43: 0.6 | E43: 3 | F43: =SUM([1]Работы!G15,[1]Работы!H15,[1]Работы!I15,[1]Работы!K15,[1]Работы!L15) -> 2544.3502
A44: 12 | B44: Осмотр электросети, арматуры, электрооборудования на лестничных клетках | C44: 100 лестничных площадок | D44: 0.04 | E44: 2 | F44: =SUM([1]Работы!G16,[1]Работы!H16,[1]Работы!I16,[1]Работы!K16,[1]Работы!L16) -> 273.28426
A45: 13 | B45: Уборка придомовой территории | C45: 3,15 руб/м² | D45: 641 | E45: 247 | F45: =3.15*[1]Работы!E17*12 -> 24229.8
A46: 14 | B46: Вывоз твердых бытовых отходов и крупногабаритного мусора | C46: 1,95 руб/м² | D46: 641 | E46: 365 | F46: =1.95*[1]Работы!E18/30*[1]Работы!F18 -> 15207.725
A47: 15 | B47: Уборка подъездов | C47: 1,64 руб/м² | D47: 641 | E47: 48 | F47: =PRODUCT([1]Работы!E19,1.64,12) -> 12614.88
A48: 16 | B48: Ослуживание внутридомового газового оборудования | D48: 641 | F48: 7385.61
A49: 17 | B49: Общедомовые нужды (электроэнергия, ГВ, ХВ) | F49: 7213.78
A50: III. | B50: Работы по текущему ремонту общего имущества | F50: =SUM(F51:F53) -> 3949.3864
A51: 1 | B51: Устранение неисправности электроснабжения | C51: 1000 пог.м. | D51: 0.005 | E51: 6 | F51: =SUM([1]Работы!G23,[1]Работы!H23,[1]Работы!I23,[1]Работы!K23,[1]Работы!L23) -> 2879.0181
A52: 2 | B52: Замена ламп | C52: 100 шт. | D52: 0.01 | E52: 2 | F52: =SUM([1]Работы!G24,[1]Работы!H24,[1]Работы!I24,[1]Работы!K24,[1]Работы!L24) -> 287.56835
A53: 3 | B53: Ремонт дверного полотна | C53: 1 шт. | D53: 1 | E53: 1 | F53: =SUM([1]Работы!G25:L25) -> 782.8
A54: ИТОГО: | F54: =SUM(F31,F32,F50) -> 126747.93
A55: Информация о ведении претензионно-исковой работы в отношении потребителей-должников
A56: 1. | B56: Направлено претензий потребителям-должникам | C56: ед. | D56: 39
A57: 2. | B57: Направлено исковых заявлений | C57: ед. | D57: 1
A58: 3. | B58: Получено денежных средств по результатам претензионно-исковой работы | C58: руб. | D58: 40128.67
D60: ООО "КП "Альтернатива"

Sheet Лист2

Sheet Лист3
