Workbook

Sheet Ленина 15А
A1: ООО "КП "Альтернатива"
A2: Отчет об исполнении управляющей организацией договора управления Ленина д. 15А
A4: N пп | B4: Наименование параметра | C4: Единица измерения | D4: Значение
A5: 1. | B5: Дата заполнения/ внесения изменений | C5: - | D5: 18 марта 2019 года
A6: 2. | B6: Дата начала отчетного периода | C6: - | D6: 01 января 2018 года
A7: 3. | B7: Дата конца отчетного периода | C7: - | D7: 31 декабря 2018 года
A8: Общая информация о выполняемых работах (оказываемых услугах) по содержанию и текущему ремонту общего имущества
A9: 4. | B9: Переходящие остатки денежных средств (на начало периода 01.01.2018г.) | C9: руб. | D9: 236650.05
B10: - переплата потребителями | C10: руб. | D10: 0
B11: - задолженность потребителей | C11: руб. | D11: 236650.05
A12: 5. | B12: Начислено за услуги (работы) по содержанию и текущему ремонту, в том числе: | C12: руб. | D12: 272409.39
B13: - за содержание дома | C13: руб. | D13: =D12*F32/D28 -> 171775.28
B14: - за текущий ремонт | C14: руб. | D14: =D12*F50/D28 -> 70789.284
B15: - за услуги управления | C15: руб. | D15: =D12*F31/D28 -> 29844.826
A16: 6. | B16: Получено денежных средств, в том числе: | C16: руб. | D16: 225403.99
B17: - денежных средств от потребителей | C17: руб. | D17: 225403.99
B18: - целевых взносов от потребителей | C18: руб. | D18: 0
B19: - субсидий | C19: руб. | D19: 0
B20: - денежных средств от использования общего имущества | C20: руб. | D20: 0
B21: - прочие поступления | C21: руб. | D21: 0
A22: 7. | B22: Всего денежных средств с учетом остатков | C22: руб. | D22: 225403.99
A23: 8. | B23: Переходящие остатки денежных средств (на конец периода 31.12.2018г.) | C23: руб. | D23: =D9+D12-D16 -> 283655.45
B24: - переплата потребителями | C24: руб. | D24: 0
B25: - задолженность потребителей | C25: руб. | D25: 283655.45
A26: Выполненные работы (оказанные услуги) по содержанию общего имущества и текущему ремонту в отчетном периоде
A27: 9. | B27: Наименование работ (услуг) | C27: - | D27: Управление жилым домом
A28: 10. | B28: Годовая фактическая стоимость работ (услуг) | C28: руб. | D28: 283714.14
A29: Детальный перечень выполненных работ (оказанных услуг) - Управление жилым домом
A30: №пп | B30: Работа | C30: Измеритель | D30: Кол-во ед.из. | E30: Периодичность в год | F30: Стоимость, руб.
A31: I. | B31: Расходы на управление | C31: 2,20 руб/м² | D31: 1177.4 | E31: 12 | F31: =PRODUCT([1]Работы!E3:F3,2.2) -> 31083.36
A32: II. | B32: Работы по содержанию общего имущества | F32: =SUM(F33:F49) -> 178903.8
A33: 1 | B33: Содержание аварийно-диспетчерской службы | C33: 2,79 руб/м² | D33: 1177.4 | E33: 12 | F33: =PRODUCT([1]Работы!E5:F5,2.79) -> 39419.352
A34: 2 | B34: Промывка трубопроводов системы центрального отопления | C34: 10 м трубопровода | D34: 20 | E34: 1 | F34: =SUM([1]Работы!G6,[1]Работы!H6,[1]Работы!I6,[1]Работы!K6,[1]Работы!L6) -> 6419.8451
A35: 3 | B35: Ревизия запорной арматуры | C35: 100 задвижек | D35: 0.06 | E35: 1 | F35: =SUM([1]Работы!G7,[1]Работы!H7,[1]Работы!I7,[1]Работы!K7,[1]Работы!L7) -> 8904.4481
A36: 4 | B36: Запуск отопления | C36: 1 здание | D36: 1 | E36: 1 | F36: =SUM([1]Работы!G8,[1]Работы!H8,[1]Работы!I8,[1]Работы!K8,[1]Работы!L8) -> 1346.217
A37: 5 | B37: Ликвидация воздушных пробок в стояке системы отопления | C37: 100 стояков | D37: 0.01 | E37: 2 | F37: =SUM([1]Работы!G9,[1]Работы!H9,[1]Работы!I9,[1]Работы!K9,[1]Работы!L9) -> 376.94077
A38: 6 | B38: Осмотр территории вокруг здания и фундамента | C38: 1000 кв.м. общей площади | D38: 1 | E38: 2 | F38: =SUM([1]Работы!G10,[1]Работы!H10,[1]Работы!I10,[1]Работы!K10,[1]Работы!L10) -> 262.51232
A39: 7 | B39: Осмотр кирпичных и железобетонных стен, фасадов | C39: 1000 кв.м. общей площади | D39: 1 | E39: 2 | F39: =SUM([1]Работы!G11,[1]Работы!H11,[1]Работы!I11,[1]Работы!K11,[1]Работы!L11) -> 2093.3675
A40: 8 | B40: Осмотр внутренней отделки стен | C40: 1000 кв.м. общей площади | D40: 1 | E40: 2 | F40: =SUM([1]Работы!G12,[1]Работы!H12,[1]Работы!I12,[1]Работы!K12,[1]Работы!L12) -> 3036.4918
A41: 9 | B41: Осмотр всех элементов кровель, водостоков | C41: 1000 кв.м. кровли | D41: 0.3 | E41: 2 | F41: =SUM([1]Работы!G13,[1]Работы!H13,[1]Работы!I13,[1]Работы!K13,[1]Работы!L13) -> 1702.8403
A42: 10 | B42: Прочистка канализационного лежака | C42: 100 м канализа-ционного лежака | D42: 0.1 | E42: 6 | F42: =SUM([1]Работы!G14,[1]Работы!H14,[1]Работы!I14,[1]Работы!K14,[1]Работы!L14) -> 7526.3502
A43: 11 | B43: Проверка исправности канализационных вытяжек | C43: 1000 м2 площади помещений | D43: 1 | E43: 2 | F43: =SUM([1]Работы!G15,[1]Работы!H15,[1]Работы!I15,[1]Работы!K15,[1]Работы!L15) -> 2827.0558
A44: 12 | B44: Проведение технических осмотров и устранение незначительных неисправностей в системе вентиляции | C44: 1000 м2 площади помещений | D44: 1 | E44: 2 | F44: =SUM([1]Работы!G16,[1]Работы!H16,[1]Работы!I16,[1]Работы!K16,[1]Работы!L16) -> 2827.0558
A45: 13 | B45: Осмотр электросети, арматуры, электрооборудования на лестничных клетках | C45: 100 лестничных площадок | D45: 0.1 | E45: 2 | F45: =SUM([1]Работы!G17,[1]Работы!H17,[1]Работы!I17,[1]Работы!K17,[1]Работы!L17) -> 683.21065
A46: 14 | B46: Осмотр устройства системы центрального отопления в чердачных и подвальных помещениях | C46: 1000 м2 осматри-ваемых помещений | D46: 1 | E46: 2 | F46: =SUM([1]Работы!G18,[1]Работы!H18,[1]Работы!I18,[1]Работы!K18,[1]Работы!L18) -> 3036.4918
A47: 15 | B47: Уборка придомовой территории | C47: 3,15 руб/м² | D47: 1177.4 | E47: 247 | F47: =3.15*[1]Работы!E19*12 -> 44505.72
A48: 16 | B48: Вывоз твердых бытовых отходов и крупногабаритного мусора | C48: 1,95 руб/м² | D48: 1177.4 | E48: 365 | F48: =1.95*[1]Работы!E20/30*[1]Работы!F20 -> 27933.815
A49: 17 | B49: Общедомовые нужды (электроэнергия, ГВ, ХВ) | F49: 26002.09
A50: III. | B50: Работы по текущему ремонту общего имущества | F50: =SUM(F51:F56) -> 73726.978
A51: 1 | B51: Устранение неисправности электроснабжения | C51: 1000 пог.м. | D51: 0.01 | E51: 12 | F51: =SUM([1]Работы!G23,[1]Работы!H23,[1]Работы!I23,[1]Работы!K23,[1]Работы!L23) -> 11516.072
A52: 2 | B52: Устранение неисправности трубопровода СО,ГВС,ХВС | C52: 100 м трубопроводов | D52: 0.02 | E52: 10 | F52: =SUM([1]Работы!G24,[1]Работы!H24,[1]Работы!I24,[1]Работы!K24,[1]Работы!L24) -> 9697.0177
A53: 3 | B53: Ремонт дверного полотна | C53: 1 шт. | D53: 1 | E53: 2 | F53: =SUM([1]Работы!G25:L25) -> 1399.49
A54: 4 | B54: Смена стекол на штапиках без замазки | C54: 100 м фальца | D54: 0.05 | E54: 1 | F54: =SUM([1]Работы!G26,[1]Работы!H26,[1]Работы!I26,[1]Работы!K26,[1]Работы!L26) -> 1054.3248
A55: 5 | B55: Ремонт мест общего пользования | C55: 1 подъезд | D55: 1 | E55: 1 | F55: =SUM([1]Работы!G27,[1]Работы!H27,[1]Работы!I27,[1]Работы!K27,[1]Работы!L27) -> 15039.25
A56: 6 | B56: Ремонт шиферной кровли | C56: 100 м2 | D56: 0.5 | E56: 1 | F56: =SUM([1]Работы!G28,[1]Работы!H28,[1]Работы!I28,[1]Работы!K28,[1]Работы!L28) -> 35020.823
A57: ИТОГО: | F57: =SUM(F50,F31,F32) -> 283714.14
A58: Информация о ведении претензионно-исковой работы в отношении потребителей-должников
A59: 1. | B59: Направлено претензий потребителям-должникам | C59: ед. | D59: 475
A60: 2. | B60: Направлено исковых заявлений | C60: ед. | D60: 3
A61: 3. | B61: Получено денежных средств по результатам претензионно-исковой работы | C61: руб. | D61: 8217.47
D63: ООО "КП "Альтернатива"

Sheet Лист2

Sheet Лист3
