Workbook

Sheet Культуры 3
A1: ООО "КП "Альтернатива"
A2: Отчет об исполнении управляющей организацией договора управления Культуры д. 3
A4: N пп | B4: Наименование параметра | C4: Единица измерения | D4: Значение
A5: 1. | B5: Дата заполнения/ внесения изменений | C5: - | D5: 01 марта 2019 года
A6: 2. | B6: Дата начала отчетного периода | C6: - | D6: 01 января 2018 года
A7: 3. | B7: Дата конца отчетного периода | C7: - | D7: 31 декабря 2018 года
A8: Общая информация о выполняемых работах (оказываемых услугах) по содержанию и текущему ремонту общего имущества
A9: 4. | B9: Переходящие остатки денежных средств (на начало периода 01.01.2018г.) | C9: руб. | D9: 28664.95
B10: - переплата потребителями | C10: руб. | D10: 0
B11: - задолженность потребителей | C11: руб. | D11: 28664.95
A12: 5. | B12: Начислено за услуги (работы) по содержанию и текущему ремонту, в том числе: | C12: руб. | D12: 119445.69
B13: - за содержание дома | C13: руб. | D13: =D12*F32/D28 -> 96518.816
B14: - за текущий ремонт | C14: руб. | D14: =D12*F48/D28 -> 6145.3203
B15: - за услуги управления | C15: руб. | D15: =D12*F31/D28 -> 16781.553
A16: 6. | B16: Получено денежных средств, в том числе: | C16: руб. | D16: 106720.49
B17: - денежных средств от потребителей | C17: руб. | D17: 106720.49
B18: - целевых взносов от потребителей | C18: руб. | D18: 0
B19: - субсидий | C19: руб. | D19: 0
B20: - денежных средств от использования общего имущества | C20: руб. | D20: 0
B21: - прочие поступления | C21: руб. | D21: 0
A22: 7. | B22: Всего денежных средств с учетом остатков | C22: руб. | D22: 106720.49
A23: 8. | B23: Переходящие остатки денежных средств (на конец периода 31.12.2018г.) | C23: руб. | D23: =D9+D12-D16 -> 41390.15
B24: - переплата потребителями | C24: руб. | D24: 0
B25: - задолженность потребителей | C25: руб. | D25: 41390.15
A26: Выполненные работы (оказанные услуги) по содержанию общего имущества и текущему ремонту в отчетном периоде
A27: 9. | B27: Наименование работ (услуг) | C27: - | D27: Управление жилым домом
A28: 10. | B28: Годовая фактическая стоимость работ (услуг) | C28: руб. | D28: 118287.26
A29: Детальный перечень выполненных работ (оказанных услуг) - Управление жилым домом
A30: №пп | B30: Работа | C30: Измеритель | D30: Кол-во ед.из. | E30: Периодичность | F30: Стоимость, руб.
A31: I. | B31: Расходы на управление | C31: 2,20 руб/м² | D31: 629.5 | E31: 12 | F31: =PRODUCT([1]Работы!E3:F3,2.2) -> 16618.8
A32: II. | B32: Работы по содержанию общего имущества | F32: =SUM(F33:F47) -> 95582.744
A33: 1 | B33: Содержание аварийно-диспетчерской службы | C33: 2,79 руб/м² | D33: 629.5 | E33: 12 | F33: =PRODUCT([1]Работы!E5:F5,2.79) -> 21075.66
A34: 2 | B34: Промывка трубопроводов системы центрального отопления | C34: 10 м трубопровода | D34: 10 | E34: 1 | F34: =SUM([1]Работы!G6,[1]Работы!H6,[1]Работы!I6,[1]Работы!K6,[1]Работы!L6) -> 3209.9226
A35: 3 | B35: Ревизия запорной арматуры | C35: 100 задвижек | D35: 0.04 | E35: 1 | F35: =SUM([1]Работы!G7,[1]Работы!H7,[1]Работы!I7,[1]Работы!K7,[1]Работы!L7) -> 5936.2988
A36: 4 | B36: Запуск отопления | C36: 1 здание | D36: 1 | E36: 1 | F36: =SUM([1]Работы!G8,[1]Работы!H8,[1]Работы!I8,[1]Работы!K8,[1]Работы!L8) -> 1346.217
A37: 5 | B37: Осмотр территории вокруг здания и фундамента | C37: 1000 кв.м. общей площади | D37: 0.6 | E37: 2 | F37: =SUM([1]Работы!G9,[1]Работы!H9,[1]Работы!I9,[1]Работы!K9,[1]Работы!L9) -> 157.50739
A38: 6 | B38: Осмотр кирпичных и железобетонных стен, фасадов | C38: 1000 кв.м. общей площади | D38: 0.6 | E38: 2 | F38: =SUM([1]Работы!G10,[1]Работы!H10,[1]Работы!I10,[1]Работы!K10,[1]Работы!L10) -> 1256.0205
A39: 7 | B39: Осмотр внутренней отделки стен | C39: 1000 кв.м. общей площади | D39: 0.6 | E39: 2 | F39: =SUM([1]Работы!G11,[1]Работы!H11,[1]Работы!I11,[1]Работы!K11,[1]Работы!L11) -> 1821.8951
A40: 8 | B40: Осмотр всех элементов кровель, водостоков | C40: 1000 кв.м. кровли | D40: 0.2 | E40: 2 | F40: =SUM([1]Работы!G12,[1]Работы!H12,[1]Работы!I12,[1]Работы!K12,[1]Работы!L12) -> 1135.2269
A41: 9 | B41: Проверка исправности канализационных вытяжек | C41: 1000 м2 площади помещений | D41: 0.6 | E41: 2 | F41: =SUM([1]Работы!G13,[1]Работы!H13,[1]Работы!I13,[1]Работы!K13,[1]Работы!L13) -> 1696.2335
A42: 10 | B42: Проведение технических осмотров и устранение незначительных неисправностей в системе вентиляции | C42: 1000 м2 площади помещений | D42: 0.6 | E42: 3 | F42: =SUM([1]Работы!G14,[1]Работы!H14,[1]Работы!I14,[1]Работы!K14,[1]Работы!L14) -> 2544.3502
A43: 11 | B43: Осмотр электросети, арматуры, электрооборудования на лестничных клетках | C43: 100 лестничных площадок | D43: 0.04 | E43: 2 | F43: =SUM([1]Работы!G15,[1]Работы!H15,[1]Работы!I15,[1]Работы!K15,[1]Работы!L15) -> 273.28426
A44: 12 | B44: Уборка придомовой территории | C44: 3,15 руб/м² | D44: 629.5 | E44: 247 | F44: =3.15*[1]Работы!E16*12 -> 23795.1
A45: 13 | B45: Вывоз твердых бытовых отходов и крупногабаритного мусора | C45: 1,95 руб/м² | D45: 629.5 | E45: 365 | F45: =1.95*[1]Работы!E17/30*[1]Работы!F17 -> 14934.887
A46: 14 | B46: Ослуживание внутридомового газового оборудования | D46: 629.5 | F46: 7385.61
A47: 15 | B47: Общедомовые нужды (электроэнергия, ХВ, ГВ) | F47: 9014.53
A48: III. | B48: Работы по текущему ремонту общего имущества | F48: =SUM(F49:F51) -> 6085.7208
A49: 1 | B49: Устранение неисправности электроснабжения | C49: 1000 пог.м. | D49: 0.01 | E49: 2 | F49: =SUM([1]Работы!G22,[1]Работы!H22,[1]Работы!I22,[1]Работы!K22,[1]Работы!L22) -> 1919.3454
A50: 2 | B50: Устранение неисправности трубопровода СО, ХВС, ГВС | C50: 100 м трубопроводов | D50: 0.01 | E50: 8 | F50: =SUM([1]Работы!G23,[1]Работы!H23,[1]Работы!I23,[1]Работы!K23,[1]Работы!L23) -> 3878.8071
A51: 3 | B51: Замена ламп | C51: 100 шт. | D51: 0.01 | E51: 2 | F51: =SUM([1]Работы!G24,[1]Работы!H24,[1]Работы!I24,[1]Работы!K24,[1]Работы!L24) -> 287.56835
A52: ИТОГО: | F52: =SUM(F31,F32,F48) -> 118287.26
A53: Информация о ведении претензионно-исковой работы в отношении потребителей-должников
A54: 1. | B54: Направлено претензий потребителям-должникам | C54: ед. | D54: 58
A55: 2. | B55: Направлено исковых заявлений | C55: ед. | D55: 2
A56: 3. | B56: Получено денежных средств по результатам претензионно-исковой работы | C56: руб. | D56: 18621.42
D58: ООО "КП "Альтернатива"

Sheet Лист2

Sheet Лист3
