Workbook

Sheet Февральская 16
A1: ООО "КП "Альтернатива"
A2: Отчет об исполнении управляющей организацией договора управления Февральякая д. 16
A4: N пп | B4: Наименование параметра | C4: Единица измерения | D4: Значение
A5: 1. | B5: Дата заполнения/ внесения изменений | C5: - | D5: 11 марта 2019 года
A6: 2. | B6: Дата начала отчетного периода | C6: - | D6: 01 января 2018 года
A7: 3. | B7: Дата конца отчетного периода | C7: - | D7: 31 декабря 2018 года
A8: Общая информация о выполняемых работах (оказываемых услугах) по содержанию и текущему ремонту общего имущества
A9: 4. | B9: Переходящие остатки денежных средств (на начало периода 01.01.2018г.) | C9: руб. | D9: 83451.82
B10: - переплата потребителями | C10: руб. | D10: 0
B11: - задолженность потребителей | C11: руб. | D11: 83451.82
A12: 5. | B12: Начислено за услуги (работы) по содержанию и текущему ремонту, в том числе: | C12: руб. | D12: 140735.44
B13: - за содержание дома | C13: руб. | D13: =F32*D12/D28 -> 116474.72
B14: - за текущий ремонт | C14: руб. | D14: =F51*D12/D28 -> 5988.3863
B15: - за услуги управления | C15: руб. | D15: =F31*D12/D28 -> 18272.333
A16: 6. | B16: Получено денежных средств, в том числе: | C16: руб. | D16: 118783.38
B17: - денежных средств от потребителей | C17: руб. | D17: 118783.38
B18: - целевых взносов от потребителей | C18: руб. | D18: 0
B19: - субсидий | C19: руб. | D19: 0
B20: - денежных средств от использования общего имущества | C20: руб. | D20: 0
B21: - прочие поступления | C21: руб. | D21: 0
A22: 7. | B22: Всего денежных средств с учетом остатков | C22: руб. | D22: 118783.38
A23: 8. | B23: Переходящие остатки денежных средств (на конец периода 31.12.2018г.) | C23: руб. | D23: =D9+D12-D16 -> 105403.88
B24: - переплата потребителями | C24: руб. | D24: 0
B25: - задолженность потребителей | C25: руб. | D25: 105403.88
A26: Выполненные работы (оказанные услуги) по содержанию общего имущества и текущему ремонту в отчетном периоде
A27: 9. | B27: Наименование работ (услуг) | C27: - | D27: Управление жилым домом
A28: 10. | B28: Годовая фактическая стоимость работ (услуг) | C28: руб. | D28: 127471.08
A29: Детальный перечень выполненных работ (оказанных услуг) - Управление жилым домом
A30: №пп | B30: Работа | C30: Измеритель | D30: Кол-во ед.из. | E30: Периодичность | F30: Стоимость, руб.
A31: I. | B31: Расходы на управление | C31: 2,20 руб/м² | D31: 626.9 | E31: 12 | F31: =PRODUCT([1]Работы!E3:F3,2.2) -> 16550.16
A32: II. | B32: Работы по содержанию общего имущества | F32: =SUM(F33:F50) -> 105496.94
A33: 1 | B33: Содержание аварийно-диспетчерской службы | C33: 2,79 руб/м² | D33: 626.9 | E33: 12 | F33: =PRODUCT([1]Работы!E5:F5,2.79) -> 20988.612
A34: 2 | B34: Промывка трубопроводов системы центрального отопления | C34: 10 м трубопровода | D34: 10 | E34: 1 | F34: =SUM([1]Работы!G6,[1]Работы!H6,[1]Работы!I6,[1]Работы!K6,[1]Работы!L6) -> 3209.9226
A35: 3 | B35: Ревизия запорной арматуры | C35: 100 задвижек | D35: 0.02 | E35: 1 | F35: =SUM([1]Работы!G7,[1]Работы!H7,[1]Работы!I7,[1]Работы!K7,[1]Работы!L7) -> 2968.1494
A36: 4 | B36: Запуск отопления | C36: 1 здание | D36: 1 | E36: 1 | F36: =SUM([1]Работы!G8,[1]Работы!H8,[1]Работы!I8,[1]Работы!K8,[1]Работы!L8) -> 1346.217
A37: 5 | B37: Устранение засоров внутренних канализационных трубопроводов | C37: 100 м трубы | D37: 0.1 | E37: 1 | F37: =SUM([1]Работы!G9,[1]Работы!H9,[1]Работы!I9,[1]Работы!K9,[1]Работы!L9) -> 677.43104
A38: 6 | B38: Осмотр территории вокруг здания и фундамента | C38: 1000 кв.м. общей площади | D38: 0.6 | E38: 2 | F38: =SUM([1]Работы!G10,[1]Работы!H10,[1]Работы!I10,[1]Работы!K10,[1]Работы!L10) -> 157.50739
A39: 7 | B39: Осмотр кирпичных и железобетонных стен, фасадов | C39: 1000 кв.м. общей площади | D39: 0.6 | E39: 2 | F39: =SUM([1]Работы!G11,[1]Работы!H11,[1]Работы!I11,[1]Работы!K11,[1]Работы!L11) -> 1256.0205
A40: 8 | B40: Осмотр внутренней отделки стен | C40: 1000 кв.м. общей площади | D40: 0.6 | E40: 2 | F40: =SUM([1]Работы!G12,[1]Работы!H12,[1]Работы!I12,[1]Работы!K12,[1]Работы!L12) -> 1821.8951
A41: 9 | B41: Осмотр всех элементов кровель, водостоков | C41: 1000 кв.м. кровли | D41: 0.2 | E41: 2 | F41: =SUM([1]Работы!G13,[1]Работы!H13,[1]Работы!I13,[1]Работы!K13,[1]Работы!L13) -> 1135.2269
A42: 10 | B42: Проверка исправности канализационных вытяжек | C42: 1000 м2 площади помещений | D42: 0.6 | E42: 2 | F42: =SUM([1]Работы!G14,[1]Работы!H14,[1]Работы!I14,[1]Работы!K14,[1]Работы!L14) -> 1696.2335
A43: 11 | B43: Проведение технических осмотров и устранение незначительных неисправностей в системе вентиляции | C43: 1000 м2 площади помещений | D43: 0.6 | E43: 3 | F43: =SUM([1]Работы!G15,[1]Работы!H15,[1]Работы!I15,[1]Работы!K15,[1]Работы!L15) -> 2544.3502
A44: 12 | B44: Осмотр электросети, арматуры, электрооборудования на лестничных клетках | C44: 100 лестничных площадок | D44: 0.04 | E44: 2 | F44: =SUM([1]Работы!G16,[1]Работы!H16,[1]Работы!I16,[1]Работы!K16,[1]Работы!L16) -> 273.28426
A45: 13 | B45: Осмотр устройства системы центрального отопления в чердачных и подвальных помещениях | C45: 1000 м2 осматри-ваемых помещений | D45: 0.3 | E45: 2 | F45: =SUM([1]Работы!G17,[1]Работы!H17,[1]Работы!I17,[1]Работы!K17,[1]Работы!L17) -> 910.94754
A46: 14 | B46: Уборка придомовой территории | C46: 3,15 руб/м² | D46: 626.9 | E46: 247 | F46: =3.15*[1]Работы!E18*12 -> 23696.82
A47: 15 | B47: Вывоз твердых бытовых отходов и крупногабаритного мусора | C47: 1,95 руб/м² | D47: 626.9 | E47: 365 | F47: =1.95*[1]Работы!E19/30*[1]Работы!F19 -> 14873.202
A48: 16 | B48: Уборка подъездов | C48: 1,64 руб/м² | D48: 626.9 | E48: 48 | F48: =PRODUCT([1]Работы!E20,1.64,12) -> 12337.392
A49: 17 | B49: Обслуживание внутридомового газового оборудования | D49: 626.9 | F49: 10542
A50: 18 | B50: Общедомовые нужды (электроэнергия, ГВ, ХВ) | F50: 5061.73
A51: III. | B51: Работы по текущему ремонту общего имущества | F51: =SUM(F52:F54) -> 5423.979
A52: 1 | B52: Устранение неисправности электроснабжения | C52: 1000 пог.м. | D52: 0.001 | E52: 3 | F52: =SUM([1]Работы!G24,[1]Работы!H24,[1]Работы!I24,[1]Работы!K24,[1]Работы!L24) -> 287.90181
A53: 2 | B53: Устранение неисправности СО, ГВС, ХВС | C53: 100 м трубопроводов | D53: 0.01 | E53: 10 | F53: =SUM([1]Работы!G25,[1]Работы!H25,[1]Работы!I25,[1]Работы!K25,[1]Работы!L25) -> 4848.5089
A54: 3 | B54: Замена ламп | C54: 100 шт. | D54: 0.01 | E54: 2 | F54: =SUM([1]Работы!G26,[1]Работы!H26,[1]Работы!I26,[1]Работы!K26,[1]Работы!L26) -> 287.56835
A55: ИТОГО: | F55: =SUM(F31,F32,F51) -> 127471.08
A56: Информация о ведении претензионно-исковой работы в отношении потребителей-должников
A57: 1. | B57: Направлено претензий потребителям-должникам | C57: ед. | D57: 55
A58: 2. | B58: Направлено исковых заявлений | C58: ед. | D58: 1
A59: 3. | B59: Получено денежных средств по результатам претензионно-исковой работы | C59: руб. | D59: 26293.99
D61: ООО "КП "Альтернатива"

Sheet Лист2

Sheet Лист3
