Workbook

Sheet Февральская 3А
A1: ООО "КП "Альтернатива"
A2: Отчет об исполнении управляющей организацией договора управления Февральякая д. 3А
A4: N пп | B4: Наименование параметра | C4: Единица измерения | D4: Значение
A5: 1. | B5: Дата заполнения/ внесения изменений | C5: - | D5: 22 марта 2019 года
A6: 2. | B6: Дата начала отчетного периода | C6: - | D6: 01 января 2018 года
A7: 3. | B7: Дата конца отчетного периода | C7: - | D7: 31 декабря 2018 года
A8: Общая информация о выполняемых работах (оказываемых услугах) по содержанию и текущему ремонту общего имущества
A9: 4. | B9: Переходящие остатки денежных средств (на начало периода 01.01.2018г.) | C9: руб. | D9: 139696.88
B10: - переплата потребителями | C10: руб. | D10: 0
B11: - задолженность потребителей | C11: руб. | D11: 139696.88
A12: 5. | B12: Начислено за услуги (работы) по содержанию и текущему ремонту, в том числе: | C12: руб. | D12: 446449.88
B13: - за содержание дома | C13: руб. | D13: =F32*D12/D28 -> 350257.72
B14: - за текущий ремонт | C14: руб. | D14: =F52*D12/D28 -> 24567.05
B15: - за услуги управления | C15: руб. | D15: =D12*F31/D28 -> 71625.112
A16: 6. | B16: Получено денежных средств, в том числе: | C16: руб. | D16: 425402.13
B17: - денежных средств от потребителей | C17: руб. | D17: 425402.13
B18: - целевых взносов от потребителей | C18: руб. | D18: 0
B19: - субсидий | C19: руб. | D19: 0
B20: - денежных средств от использования общего имущества | C20: руб. | D20: 0
B21: - прочие поступления | C21: руб. | D21: 0
A22: 7. | B22: Всего денежных средств с учетом остатков | C22: руб. | D22: 425402.13
A23: 8. | B23: Переходящие остатки денежных средств (на конец периода 31.12.2018г.) | C23: руб. | D23: =D9+D12-D16 -> 160744.63
B24: - переплата потребителями | C24: руб. | D24: 0
B25: - задолженность потребителей | C25: руб. | D25: 160744.63
A26: Выполненные работы (оказанные услуги) по содержанию общего имущества и текущему ремонту в отчетном периоде
A27: 9. | B27: Наименование работ (услуг) | C27: - | D27: Управление жилым домом
A28: 10. | B28: Годовая фактическая стоимость работ (услуг) | C28: руб. | D28: 371598.31
A29: Детальный перечень выполненных работ (оказанных услуг) - Управление жилым домом
A30: №пп | B30: Работа | C30: Измеритель | D30: Кол-во ед.из. | E30: Периодичность | F30: Стоимость, руб.
A31: I | B31: Расходы на управление | C31: 2,20 руб./м² | D31: 2258.2 | E31: 12 | F31: =PRODUCT([1]Работы!E3:F3,2.2) -> 59616.48
A32: II | B32: Работы по содержанию общего имущества | F32: =SUM(F33:F51) -> 291533.68
A33: 1 | B33: Содержание аварийно-диспетчерской службы | C33: 2,79 руб./м² | D33: 2258.2 | E33: 12 | F33: =PRODUCT([1]Работы!E5:F5,2.79) -> 75604.536
A34: 2 | B34: Промывка трубопроводов системы центрального отопления | C34: 10 м трубопровода | D34: 40 | E34: 1 | F34: =SUM([1]Работы!G6,[1]Работы!H6,[1]Работы!I6,[1]Работы!K6,[1]Работы!L6) -> 12839.69
A35: 3 | B35: Ликвидация воздушных пробок в стояке системы отопления | C35: 100 стояков | D35: 0.01 | E35: 8 | F35: =SUM([1]Работы!G7,[1]Работы!H7,[1]Работы!I7,[1]Работы!K7,[1]Работы!L7) -> 1507.7631
A36: 4 | B36: Устранение засоров внутренних канализационных трубопроводов | C36: 100 м трубы | D36: 0.1 | E36: 6 | F36: =SUM([1]Работы!G8,[1]Работы!H8,[1]Работы!I8,[1]Работы!K8,[1]Работы!L8) -> 4064.5863
A37: 5 | B37: Запуск отопления | C37: 1 здание | D37: 1 | E37: 1 | F37: =SUM([1]Работы!G9,[1]Работы!H9,[1]Работы!I9,[1]Работы!K9,[1]Работы!L9) -> 1346.217
A38: 6 | B38: Ревизия запорной арматуры | C38: 100 задвижек | D38: 0.1 | E38: 1 | F38: =SUM([1]Работы!G10,[1]Работы!H10,[1]Работы!I10,[1]Работы!K10,[1]Работы!L10) -> 13182.052
A39: 7 | B39: Осмотр территории вокруг здания и фундамента | C39: 1000 кв.м. общей площади | D39: 2.2 | E39: 2 | F39: =SUM([1]Работы!G11,[1]Работы!H11,[1]Работы!I11,[1]Работы!K11,[1]Работы!L11) -> 577.52711
A40: 8 | B40: Осмотр кирпичных и железобетонных стен, фасадов | C40: 1000 кв.м. общей площади | D40: 2.2 | E40: 2 | F40: =SUM([1]Работы!G12,[1]Работы!H12,[1]Работы!I12,[1]Работы!K12,[1]Работы!L12) -> 4605.4085
A41: 9 | B41: Осмотр внутренней отделки стен | C41: 1000 кв.м. общей площади | D41: 2.2 | E41: 1 | F41: =SUM([1]Работы!G13,[1]Работы!H13,[1]Работы!I13,[1]Работы!K13,[1]Работы!L13) -> 3340.141
A42: 10 | B42: Осмотр всех элементов кровель, водостоков | C42: 1000 кв.м. кровли | D42: 1 | E42: 2 | F42: =SUM([1]Работы!G14,[1]Работы!H14,[1]Работы!I14,[1]Работы!K14,[1]Работы!L14) -> 5676.1345
A43: 11 | B43: Прочистка канализационного лежака | C43: 100 м канализа-ционного лежака | D43: 0.1 | E43: 4 | F43: =SUM([1]Работы!G15,[1]Работы!H15,[1]Работы!I15,[1]Работы!K15,[1]Работы!L15) -> 5017.5668
A44: 12 | B44: Проверка исправности канализационных вытяжек | C44: 1000 м2 площади помещений | D44: 2.2 | E44: 2 | F44: =SUM([1]Работы!G16,[1]Работы!H16,[1]Работы!I16,[1]Работы!K16,[1]Работы!L16) -> 6219.5227
A45: 13 | B45: Проведение технических осмотров и устранение незначительных неисправностей в системе вентиляции | C45: 1000 м2 площади помещений | D45: 2.2 | E45: 2 | F45: =SUM([1]Работы!G17,[1]Работы!H17,[1]Работы!I17,[1]Работы!K17,[1]Работы!L17) -> 6219.5227
... A47: 15 | B47: Осмотр устройства системы центрального отопления в чердачных и подвальных помещениях | C47: 1000 м2 осматри-ваемых помещений | D47: 1 | E47: 2 | F47: =SUM([1]Работы!G19,[1]Работы!H19,[1]Работы!I19,[1]Работы!K19,[1]Работы!L19) -> 3036.4918
A48: 16 | B48: Уборка придомовой территории | C48: 3,15 руб./м² | D48: 2258.2 | E48: 247 | F48: =PRODUCT([1]Работы!D20,[1]Работы!E20,12) -> 27098.4
A49: 17 | B49: Вывоз твердых бытовых отходов и крупногабаритного мусора | C49: 1,95 руб./м² | D49: 2258.2 | E49: 365 | F49: =PRODUCT([1]Работы!E21,12,1.95) -> 52841.88
A50: 18 | B50: Уборка подъездов | C50: 1,64 руб./м² | D50: 2258.2 | E50: 48 | F50: =PRODUCT([1]Работы!E22,1.64,12) -> 44441.376
A51: 19 | B51: Общедомовые нужды (электроэнергия, ГВ, ХВ) | F51: 22548.44
A52: III | B52: Работы по текущему ремонту общего имущества | F52: =SUM(F53:F56) -> 20448.15
A53: 1 | B53: Устранение неисправности электроснабжения | C53: 1000 пог.м. | D53: 0.01 | E53: 10 | F53: =SUM([1]Работы!G25,[1]Работы!H25,[1]Работы!I25,[1]Работы!K25,[1]Работы!L25) -> 9596.7269
A54: 2 | B54: Устранение неисправности трубопровода СО,ГВС,ХВС | C54: 100 м трубопроводов | D54: 0.01 | E54: 21 | F54: =SUM([1]Работы!G26,[1]Работы!H26,[1]Работы!I26,[1]Работы!K26,[1]Работы!L26) -> 8842.1666
A55: 3 | B55: Замена ламп | C55: 100 шт. | D55: 0.01 | E55: 2 | F55: =SUM([1]Работы!G27,[1]Работы!H27,[1]Работы!I27,[1]Работы!K27,[1]Работы!L27) -> 449.58355
A56: 4 | B56: Замена ламп наружного освещения | C56: 100 шт. | D56: 0.01 | E56: 1 | F56: =SUM([1]Работы!G28,[1]Работы!H28,[1]Работы!I28,[1]Работы!K28,[1]Работы!L28) -> 1559.6727
A57: ИТОГО: | F57: =SUM(F31:F32,F52) -> 371598.31
A58: Информация о ведении претензионно-исковой работы в отношении потребителей-должников
A59: 1. | B59: Направлено претензий потребителям-должникам | C59: ед. | D59: 115
A60: 2. | B60: Направлено исковых заявлений | C60: ед. | D60: 0
A61: 3. | B61: Получено денежных средств по результатам претензионно-исковой работы | C61: руб. | D61: 88568.37
D63: ООО "КП "Альтернатива"

Sheet Лист2

Sheet Лист3
