Workbook

Sheet Азина 26
A1: ООО "КП "Альтернатива"
A2: Отчет об исполнении управляющей организацией договора управления Азина д. 26
A4: N пп | B4: Наименование параметра | C4: Единица измерения | D4: Значение
A5: 1. | B5: Дата заполнения/ внесения изменений | C5: - | D5: 06 марта 2019 года
A6: 2. | B6: Дата начала отчетного периода | C6: - | D6: 01 января 2018 года
A7: 3. | B7: Дата конца отчетного периода | C7: - | D7: 31 декабря 2018 года
A8: Общая информация о выполняемых работах (оказываемых услугах) по содержанию и текущему ремонту общего имущества
A9: 4. | B9: Переходящие остатки денежных средств (на начало периода 01.01.2018г.) | C9: руб. | D9: 44831.38
B10: - переплата потребителями | C10: руб. | D10: 0
B11: - задолженность потребителей | C11: руб. | D11: 44831.38
A12: 5. | B12: Начислено за услуги (работы) по содержанию и текущему ремонту, в том числе: | C12: руб. | D12: 128115.43
B13: - за содержание дома | C13: руб. | D13: =D12*F32/D28 -> 99361.571
B14: - за текущий ремонт | C14: руб. | D14: =D12*F49/D28 -> 13186.903
B15: - за услуги управления | C15: руб. | D15: =D12*F31/D28 -> 15566.956
A16: 6. | B16: Получено денежных средств, в том числе: | C16: руб. | D16: 122009.79
B17: - денежных средств от потребителей | C17: руб. | D17: 122009.79
B18: - целевых взносов от потребителей | C18: руб. | D18: 0
B19: - субсидий | C19: руб. | D19: 0
B20: - денежных средств от использования общего имущества | C20: руб. | D20: 0
B21: - прочие поступления | C21: руб. | D21: 0
A22: 7. | B22: Всего денежных средств с учетом остатков | C22: руб. | D22: 122009.79
A23: 8. | B23: Переходящие остатки денежных средств (на конец периода 31.12.2018г.) | C23: руб. | D23: =D9+D12-D16 -> 50937.02
B24: - переплата потребителями | C24: руб. | D24: 0
B25: - задолженность потребителей | C25: руб. | D25: 50937.02
A26: Выполненные работы (оказанные услуги) по содержанию общего имущества и текущему ремонту в отчетном периоде
A27: 9. | B27: Наименование работ (услуг) | C27: - | D27: Управление жилым домом
A28: 10. | B28: Годовая фактическая стоимость работ (услуг) | C28: руб. | D28: 137793.24
A29: Детальный перечень выполненных работ (оказанных услуг) - Управление жилым домом
A30: №пп | B30: Работа | C30: Измеритель | D30: Кол-во ед.из. | E30: Периодичность в год | F30: Стоимость, руб.
A31: I. | B31: Расходы на управление | C31: 2,20 руб/м² | D31: 634.2 | E31: 12 | F31: =PRODUCT([1]Работы!E3:F3,2.2) -> 16742.88
A32: II. | B32: Работы по содержанию общего имущества | F32: =SUM(F33:F48) -> 106867.32
A33: 1 | B33: Содержание аварийно-диспетчерской службы | C33: 2,79 руб/м² | D33: 634.2 | E33: 12 | F33: =PRODUCT([1]Работы!E5:F5,2.79) -> 21233.016
A34: 2 | B34: Промывка трубопроводов системы центрального отопления | C34: 10 м трубопровода | D34: 10 | E34: 1 | F34: =SUM([1]Работы!G6,[1]Работы!H6,[1]Работы!I6,[1]Работы!K6,[1]Работы!L6) -> 3209.9226
A35: 3 | B35: Ревизия запорной арматуры | C35: 100 задвижек | D35: 0.04 | E35: 1 | F35: =SUM([1]Работы!G7,[1]Работы!H7,[1]Работы!I7,[1]Работы!K7,[1]Работы!L7) -> 5936.2988
A36: 4 | B36: Запуск отопления | C36: 1 здание | D36: 1 | E36: 1 | F36: =SUM([1]Работы!G8,[1]Работы!H8,[1]Работы!I8,[1]Работы!K8,[1]Работы!L8) -> 1346.217
A37: 5 | B37: Осмотр территории вокруг здания и фундамента | C37: 1000 кв.м. общей площади | D37: 0.5 | E37: 2 | F37: =SUM([1]Работы!G9,[1]Работы!H9,[1]Работы!I9,[1]Работы!K9,[1]Работы!L9) -> 131.25616
A38: 6 | B38: Осмотр кирпичных и железобетонных стен, фасадов | C38: 1000 кв.м. общей площади | D38: 0.5 | E38: 2 | F38: =SUM([1]Работы!G10,[1]Работы!H10,[1]Работы!I10,[1]Работы!K10,[1]Работы!L10) -> 1046.6837
A39: 7 | B39: Осмотр внутренней отделки стен | C39: 1000 кв.м. общей площади | D39: 0.5 | E39: 2 | F39: =SUM([1]Работы!G11,[1]Работы!H11,[1]Работы!I11,[1]Работы!K11,[1]Работы!L11) -> 1518.2459
A40: 8 | B40: Осмотр всех элементов кровель, водостоков | C40: 1000 кв.м. кровли | D40: 0.2 | E40: 2 | F40: =SUM([1]Работы!G12,[1]Работы!H12,[1]Работы!I12,[1]Работы!K12,[1]Работы!L12) -> 1135.2269
A41: 9 | B41: Проверка исправности канализационных вытяжек | C41: 1000 м2 площади помещений | D41: 0.5 | E41: 2 | F41: =SUM([1]Работы!G13,[1]Работы!H13,[1]Работы!I13,[1]Работы!K13,[1]Работы!L13) -> 1413.5279
A42: 10 | B42: Проведение технических осмотров и устранение незначительных неисправностей в системе вентиляции | C42: 1000 м2 площади помещений | D42: 0.5 | E42: 3 | F42: =SUM([1]Работы!G14,[1]Работы!H14,[1]Работы!I14,[1]Работы!K14,[1]Работы!L14) -> 2120.2918
A43: 11 | B43: Осмотр электросети, арматуры, электрооборудования на лестничных клетках | C43: 100 лестничных площадок | D43: 0.1 | E43: 2 | F43: =SUM([1]Работы!G15,[1]Работы!H15,[1]Работы!I15,[1]Работы!K15,[1]Работы!L15) -> 683.21065
A44: 12 | B44: Уборка придомовой территории | C44: 3,15 руб/м² | D44: 634.2 | E44: 247 | F44: =3.15*[1]Работы!E16*12 -> 23972.76
A45: 13 | B45: Вывоз твердых бытовых отходов и крупногабаритного мусора | C45: 1,95 руб/м² | D45: 634.2 | E45: 365 | F45: =1.95*[1]Работы!E17/30*[1]Работы!F17 -> 15046.395
A46: 14 | B46: Уборка подъездов | C46: 1,64 руб/м² | D46: 634.2 | E46: 48 | F46: =PRODUCT([1]Работы!E18,1.64,12) -> 12481.056
A47: 15 | B47: Ослуживание внутридомового газового оборудования | D47: 634.2 | F47: 7860
A48: 16 | B48: Общедомовые нужды (электроэнергия, ХВ, ГВ) | F48: 7733.21
A49: III. | B49: Работы по текущему ремонту общего имущества | F49: =SUM(F50:F54) -> 14183.038
A50: 1 | B50: Устранение неисправности электроснабжения | C50: 1000 пог.м. | D50: 0.002 | E50: 2 | F50: =SUM([1]Работы!G22,[1]Работы!H22,[1]Работы!I22,[1]Работы!K22,[1]Работы!L22) -> 383.86908
A51: 2 | B51: Устранение неисправности трубопровода СО,ГВС,ХВС | C51: 100 м трубопроводов | D51: 0.01 | E51: 9 | F51: =SUM([1]Работы!G23,[1]Работы!H23,[1]Работы!I23,[1]Работы!K23,[1]Работы!L23) -> 4363.658
A52: 3 | B52: Замена ламп | C52: 100 шт. | D52: 0.01 | E52: 2 | F52: =SUM([1]Работы!G24,[1]Работы!H24,[1]Работы!I24,[1]Работы!K24,[1]Работы!L24) -> 287.56835
A53: 4 | B53: Ремонт кровли из штучных материалов | C53: 100 м2 | D53: 0.024 | E53: 1 | F53: =SUM([1]Работы!G25,[1]Работы!H25,[1]Работы!I25,[1]Работы!K25,[1]Работы!L25) -> 7587.6328
A54: 5 | B54: Ремонт дверного полотна | C54: 1 шт. | D54: 2 | E54: 1 | F54: =SUM([1]Работы!G26:L26) -> 1560.31
A55: ИТОГО: | F55: =SUM(F31,F32,F49) -> 137793.24
A56: Информация о ведении претензионно-исковой работы в отношении потребителей-должников
A57: 1. | B57: Направлено претензий потребителям-должникам | C57: ед. | D57: 29
A58: 2. | B58: Направлено исковых заявлений | C58: ед. | D58: 0
A59: 3. | B59: Получено денежных средств по результатам претензионно-исковой работы | C59: руб. | D59: 14933.34
D61: ООО "КП "Альтернатива"

Sheet Лист2

Sheet Лист3
