Workbook

Sheet Автомобилистов 19
A1: ООО "КП "Альтернатива"
A2: Отчет об исполнении управляющей организацией договора управления Автомобилистов д. 19
A4: N пп | B4: Наименование параметра | C4: Единица измерения | D4: Значение
A5: 1. | B5: Дата заполнения/ внесения изменений | C5: - | D5: 14 марта 2019 года
A6: 2. | B6: Дата начала отчетного периода | C6: - | D6: 01 января 2018 года
A7: 3. | B7: Дата конца отчетного периода | C7: - | D7: 31 декабря 2018 года
A8: Общая информация о выполняемых работах (оказываемых услугах) по содержанию и текущему ремонту общего имущества
A9: 4. | B9: Переходящие остатки денежных средств (на начало периода 01.01.2018г.) | C9: руб. | D9: =125074.17+243952.95 -> 369027.12
B10: - переплата потребителями | C10: руб. | D10: 0
B11: - задолженность потребителей | C11: руб. | D11: 369027.12
A12: 5. | B12: Начислено за услуги (работы) по содержанию и текущему ремонту, в том числе: | C12: руб. | D12: =883530.91+763092.6 -> 1646623.5
B13: - за содержание дома | C13: руб. | D13: =D12*F32/D28 -> 1171471
B14: - за текущий ремонт | C14: руб. | D14: =D12*F52/D28 -> 271047.4
B15: - за услуги управления | C15: руб. | D15: =D12*F31/D28 -> 204105.16
A16: 6. | B16: Получено денежных средств, в том числе: | C16: руб. | D16: =773506.85+842610.82 -> 1616117.7
B17: - денежных средств от потребителей | C17: руб. | D17: 1616117.7
B18: - целевых взносов от потребителей | C18: руб. | D18: 0
B19: - субсидий | C19: руб. | D19: 0
B20: - денежных средств от использования общего имущества | C20: руб. | D20: 0
B21: - прочие поступления | C21: руб. | D21: 0
A22: 7. | B22: Всего денежных средств с учетом остатков | C22: руб. | D22: 1616117.7
A23: 8. | B23: Переходящие остатки денежных средств (на конец периода 31.12.2018г.) | C23: руб. | D23: =D9+D12-D16 -> 399532.96
B24: - переплата потребителями | C24: руб.
B25: - задолженность потребителей | C25: руб. | D25: =114659.92+284873.04 -> 399532.96
A26: Выполненные работы (оказанные услуги) по содержанию общего имущества и текущему ремонту в отчетном периоде
A27: 9. | B27: Наименование работ (услуг) | C27: - | D27: Управление жилым домом
A28: 10. | B28: Годовая фактическая стоимость работ (услуг) | C28: руб. | D28: 1705543.9
A29: Детальный перечень выполненных работ (оказанных услуг) - Управление жилым домом
A30: №пп | B30: Работа | C30: Измеритель | D30: Кол-во ед.из. | E30: Периодичность | F30: Стоимость, руб.
A31: I. | B31: Расходы на управление | C31: 2,20 руб/м² | D31: 8007.9 | E31: 12 | F31: =PRODUCT([1]Работы!E3:F3,2.2) -> 211408.56
A32: II. | B32: Работы по содержанию общего имущества | F32: =SUM(F33:F51) -> 1213389.2
A33: 1 | B33: Содержание аварийно-диспетчерской службы | C33: 2,79 руб/м² | D33: 8007.9 | E33: 12 | F33: =PRODUCT([1]Работы!E5:F5,2.79) -> 268104.49
A34: 2 | B34: Промывка трубопроводов системы центрального отопления | C34: 10 м трубопровода | D34: 40 | E34: 1 | F34: =SUM([1]Работы!G6,[1]Работы!H6,[1]Работы!I6,[1]Работы!K6,[1]Работы!L6) -> 12839.69
A35: 3 | B35: Ревизия запорной арматуры | C35: 100 задвижек | D35: 0.4 | E35: 1 | F35: =SUM([1]Работы!G7,[1]Работы!H7,[1]Работы!I7,[1]Работы!K7,[1]Работы!L7) -> 59362.988
A36: 4 | B36: Запуск отопления | C36: 1 здание | D36: 1 | E36: 1 | F36: =SUM([1]Работы!G8,[1]Работы!H8,[1]Работы!I8,[1]Работы!K8,[1]Работы!L8) -> 1346.217
A37: 5 | B37: Ликвидация воздушных пробок в стояке системы отопления | C37: 100 стояков | D37: 0.01 | E37: 20 | F37: =SUM([1]Работы!G9,[1]Работы!H9,[1]Работы!I9,[1]Работы!K9,[1]Работы!L9) -> 3769.4077
A38: 6 | B38: Устранение засоров внутренних канализационных трубопроводов | C38: 100 м трубы | D38: 0.1 | E38: 46 | F38: =SUM([1]Работы!G10,[1]Работы!H10,[1]Работы!I10,[1]Работы!K10,[1]Работы!L10) -> 31161.828
A39: 7 | B39: Осмотр территории вокруг здания и фундамента | C39: 1000 кв.м. общей площади | D39: 8 | E39: 2 | F39: =SUM([1]Работы!G11,[1]Работы!H11,[1]Работы!I11,[1]Работы!K11,[1]Работы!L11) -> 2100.0986
A40: 8 | B40: Осмотр кирпичных и железобетонных стен, фасадов | C40: 1000 кв.м. общей площади | D40: 8 | E40: 2 | F40: =SUM([1]Работы!G12,[1]Работы!H12,[1]Работы!I12,[1]Работы!K12,[1]Работы!L12) -> 16746.94
A41: 9 | B41: Осмотр внутренней отделки стен | C41: 1000 кв.м. общей площади | D41: 8 | E41: 2 | F41: =SUM([1]Работы!G13,[1]Работы!H13,[1]Работы!I13,[1]Работы!K13,[1]Работы!L13) -> 24291.934
A42: 10 | B42: Осмотр всех элементов кровель, водостоков | C42: 1000 кв.м. кровли | D42: 2 | E42: 2 | F42: =SUM([1]Работы!G14,[1]Работы!H14,[1]Работы!I14,[1]Работы!K14,[1]Работы!L14) -> 11352.269
A43: 11 | B43: Прочистка канализационного лежака | C43: 100 м канализа-ционного лежака | D43: 0.1 | E43: 12 | F43: =SUM([1]Работы!G15,[1]Работы!H15,[1]Работы!I15,[1]Работы!K15,[1]Работы!L15) -> 15052.7
A44: 12 | B44: Проверка исправности канализационных вытяжек | C44: 1000 м2 площади помещений | D44: 8 | E44: 1 | F44: =SUM([1]Работы!G16,[1]Работы!H16,[1]Работы!I16,[1]Работы!K16,[1]Работы!L16) -> 11308.223
A45: 13 | B45: Проведение технических осмотров и устранение незначительных неисправностей в системе вентиляции | C45: 1000 м2 площади помещений | D45: 8 | E45: 1 | F45: =SUM([1]Работы!G17,[1]Работы!H17,[1]Работы!I17,[1]Работы!K17,[1]Работы!L17) -> 11308.223
... A47: 15 | B47: Осмотр устройства системы центрального отопления в чердачных и подвальных помещениях | C47: 1000 м2 осматри-ваемых помещений | D47: 2 | E47: 2 | F47: =SUM([1]Работы!G19,[1]Работы!H19,[1]Работы!I19,[1]Работы!K19,[1]Работы!L19) -> 6072.9836
A48: 16 | B48: Уборка придомовой территории | C48: 3,15 руб/м² | D48: 8007.9 | E48: 247 | F48: =3.15*[1]Работы!E20*12 -> 302698.62
A49: 17 | B49: Вывоз твердых бытовых отходов и крупногабаритного мусора | C49: 1,95 руб/м² | D49: 8007.9 | E49: 365 | F49: =PRODUCT([1]Работы!E21,12,1.95) -> 187384.86
A50: 18 | B50: Уборка подъездов | C50: 1,64 руб/м² | D50: 8007.9 | E50: 48 | F50: =PRODUCT([1]Работы!E22,1.64,12) -> 157595.47
A51: 19 | B51: Общедомовые нужды (электроэнергия, ГВ, ХВ) | F51: =50413.97+36379 -> 86792.97
A52: III. | B52: Работы по текущему ремонту общего имущества | F52: =SUM(F53:F62) -> 280746.17
A53: 1 | B53: Устранение неисправности электроснабжения | C53: 1000 пог.м. | D53: 0.005 | E53: 29 | F53: =SUM([1]Работы!G25,[1]Работы!H25,[1]Работы!I25,[1]Работы!K25,[1]Работы!L25) -> 13915.254
A54: 2 | B54: Устранение неисправности трубопровода СО, ГВС, ХВС | C54: 100 м трубопроводов | D54: 0.01 | E54: 45 | F54: =SUM([1]Работы!G26,[1]Работы!H26,[1]Работы!I26,[1]Работы!K26,[1]Работы!L26) -> 21818.29
A55: 3 | B55: Ремонт кровли | C55: 100 м2 | D55: 1 | E55: 1 | F55: =SUM([1]Работы!G27,[1]Работы!H27,[1]Работы!I27,[1]Работы!K27,[1]Работы!L27) -> 65241.646
A56: 4 | B56: Замена ламп | C56: 100 шт. | D56: 0.01 | E56: 16 | F56: =SUM([1]Работы!G28,[1]Работы!H28,[1]Работы!I28,[1]Работы!K28,[1]Работы!L28) -> 3954.3388
A57: 5 | B57: Смена стекол на штапиках без замазки | C57: 100 м фальца | D57: 0.07 | E57: 2 | F57: =SUM([1]Работы!G29,[1]Работы!H29,[1]Работы!I29,[1]Работы!K29,[1]Работы!L29) -> 2952.1094
A58: 6 | B58: Ремонт оконных рам | C58: 1шт. | D58: 126 | E58: 1 | F58: =SUM([1]Работы!G30:L30) -> 10515.72
A59: 7 | B59: Ремонт дверного полотна | C59: 1 шт. | D59: 3 | E59: 1 | F59: =SUM([1]Работы!G31:L31) -> 3314.32
A60: 8 | B60: Замена ламп наружного освещения | C60: 100 шт. | D60: 0.01 | E60: 2 | F60: =SUM([1]Работы!G32,[1]Работы!H32,[1]Работы!I32,[1]Работы!K32,[1]Работы!L32) -> 1919.3454
A61: 9 | B61: Ремонт подъездов | C61: 1 подъезд | D61: 3 | E61: 1 | F61: =SUM([1]Работы!G33,[1]Работы!H33,[1]Работы!I33,[1]Работы!K33,[1]Работы!L33) -> 132039.25
A62: 10 | B62: Ремонт козырька входных дверей | C62: 1 шт | D62: 12 | E62: 1 | F62: =SUM([1]Работы!G34,[1]Работы!H34,[1]Работы!I34,[1]Работы!K34,[1]Работы!L34) -> 25075.9
A63: ИТОГО: | F63: =SUM(F31,F32,F52) -> 1705543.9
A64: Информация о ведении претензионно-исковой работы в отношении потребителей-должников
A65: 1. | B65: Направлено претензий потребителям-должникам | C65: ед. | D65: =155+78 -> 233
A66: 2. | B66: Направлено исковых заявлений | C66: ед. | D66: 7
A67: 3. | B67: Получено денежных средств по результатам претензионно-исковой работы | C67: руб. | D67: =96286.25+106941.52 -> 203227.77
D69: ООО "КП "Альтернатива"

Sheet Лист2

Sheet Лист3
